BEGIN:VCALENDAR
PRODID:NingEventWidget-v1
VERSION:2.0
METHOD:PUBLISH
BEGIN:VTIMEZONE
TZID:America/Los_Angeles
X-LIC-LOCATION:America/Los_Angeles
BEGIN:DAYLIGHT
TZOFFSETFROM:-0800
TZOFFSETTO:-0700
TZNAME:PDT
DTSTART:19700308T020000
RRULE:FREQ=YEARLY;BYMONTH=3;BYDAY=2SU
END:DAYLIGHT
BEGIN:STANDARD
TZOFFSETFROM:-0700
TZOFFSETTO:-0800
TZNAME:PST
DTSTART:19701101T020000
RRULE:FREQ=YEARLY;BYMONTH=11;BYDAY=1SU
END:STANDARD
END:VTIMEZONE
BEGIN:VEVENT
UID:1464587:Event:68963
DTSTAMP:20260420T224858Z
SUMMARY:Slick Rick
DESCRIPTION:Fri, 11/12/10\nSlick Rick\n\nB.B. King Blues Club and Gril
 l\n237 West 42nd Street, New York, NY 10036\n11:00 PM\nFind Tickets\n 
 \n\nFor more information visit https://trueskool.com/events/slick-rick
DTSTART;TZID=America/Los_Angeles:20101112T230000
DTEND;TZID=America/Los_Angeles:20101113T020000
CATEGORIES:new, york, ny
LOCATION:B.B. King Blues Club and Grill
WEBSITE:http://www.bbkingblues.com
URL:http://www.bbkingblues.com
CONTACT:
ORGANIZER:B.B. King Blues Club and Grill
ATTACH;FMTTYPE="image/jpeg":http://storage.ning.com/topology/rest/1.0/
 file/get/2059269599?profile=original
ATTENDEE;ROLE=REQ-PARTICIPANT;PARTSTAT=ACCEPTED;RSVP=TRUE;CN="Editor's
  Pick":https://trueskool.com/profile/RentheVinylArchaeologist
END:VEVENT
END:VCALENDAR
