BEGIN:VCALENDAR
PRODID:NingEventWidget-v1
VERSION:2.0
METHOD:PUBLISH
BEGIN:VTIMEZONE
TZID:America/Los_Angeles
X-LIC-LOCATION:America/Los_Angeles
BEGIN:DAYLIGHT
TZOFFSETFROM:-0800
TZOFFSETTO:-0700
TZNAME:PDT
DTSTART:19700308T020000
RRULE:FREQ=YEARLY;BYMONTH=3;BYDAY=2SU
END:DAYLIGHT
BEGIN:STANDARD
TZOFFSETFROM:-0700
TZOFFSETTO:-0800
TZNAME:PST
DTSTART:19701101T020000
RRULE:FREQ=YEARLY;BYMONTH=11;BYDAY=1SU
END:STANDARD
END:VTIMEZONE
BEGIN:VEVENT
UID:1464587:Event:69710
DTSTAMP:20260420T150222Z
SUMMARY:Slick Rick
DESCRIPTION:CLICK HERE TO WIN A PAIR OF TICKETS:\nhttp://www.trueskool
 .com/group/wintickets\n\n\nWEDNESDAY NOVEMBER 10\nSLICK RICK\n“The S
 how and La Di Da Di”\n\nYoshi's San Francisco\n1330 Fillmore Street\
 nSan Francisco, CA 94115\nSHOW STARTS AT 8PM\n8pm Show $25\nLimited Ea
 rly Bird Tix: $20\n» BUY TICKETS\n\nOn January 14, 1965, Ricky M. L. 
 Walters, known in the music industry as Slick Rick aka Ricky D., was b
 orn in South Wimbledon, London, England to his Jamaican parents. Known
  as Ricky back in the day, the soon-to-be entertainer moved with his f
 amily to the Bronx in 1975.\n\nExposed to the hip-hop beats and music 
 scene in the Bronx, Ricky began making a name for himself by competing
  in and winning nearly every MC battle contest he entered. He finally 
 hit the jackpot at a MC contest at the 369 Armory in Harlem, where he 
 attracted the attention of Doug E. Fresh, who was garnering his own at
 tention due to his ability to imitate drum machines and various specia
 l effects.\n\nStriking up a friendship, Doug E. Fresh and Slick Rick r
 eleased the history-making, single “The Show and La Di Da Di” in t
 he summer of 1985. With Fresh’s beatbox and Rick’s smooth lyrical 
 delivery, the duo nearly single-handedly transformed rap.\n\nFor more 
 information visit https://trueskool.com/events/slick-rick-1
DTSTART;TZID=America/Los_Angeles:20101110T200000
DTEND;TZID=America/Los_Angeles:20101110T230000
CATEGORIES:san, francisco, ca
LOCATION:Yoshi's, San Francisco, CA
WEBSITE:http://sfyoshis2.inticketing.com/events/135145
URL:http://sfyoshis2.inticketing.com/events/135145
CONTACT:
ORGANIZER:Yoshi's Jazz Club and Japanese Restaurant
ATTACH;FMTTYPE="image/jpeg":http://storage.ning.com/topology/rest/1.0/
 file/get/2059269599?profile=original
ATTENDEE;ROLE=REQ-PARTICIPANT;PARTSTAT=ACCEPTED;RSVP=TRUE;CN="Ren the 
 Vinyl Archaeologist":https://trueskool.com/profile/xh51jvilojur
END:VEVENT
END:VCALENDAR
