BEGIN:VCALENDAR
PRODID:NingEventWidget-v1
VERSION:2.0
METHOD:PUBLISH
BEGIN:VTIMEZONE
TZID:America/Los_Angeles
X-LIC-LOCATION:America/Los_Angeles
BEGIN:DAYLIGHT
TZOFFSETFROM:-0800
TZOFFSETTO:-0700
TZNAME:PDT
DTSTART:19700308T020000
RRULE:FREQ=YEARLY;BYMONTH=3;BYDAY=2SU
END:DAYLIGHT
BEGIN:STANDARD
TZOFFSETFROM:-0700
TZOFFSETTO:-0800
TZNAME:PST
DTSTART:19701101T020000
RRULE:FREQ=YEARLY;BYMONTH=11;BYDAY=1SU
END:STANDARD
END:VTIMEZONE
BEGIN:VEVENT
UID:1464587:Event:294775
DTSTAMP:20260420T193254Z
SUMMARY:Skrillex
DESCRIPTION:\nVenue:\n  ***SOLD OUT***\n\n\nLocation:\nSan Francisco, 
 CA\n\nShow Date:\nMonday, February 3\n\nShow Time:\n9:00PM\n\nOn Sale 
 Date:\nFriday, December 6\n\nTicket Price:\n$35 *plus applicable servi
 ce feesTickets available at The Independent (628 Divisadero, SF) for n
 o service charge.\n\n\n\n\n\nFor more information visit https://truesk
 ool.com/events/skrillex
DTSTART;TZID=America/Los_Angeles:20140203T210000
DTEND;TZID=America/Los_Angeles:20140203T230000
CATEGORIES:"bay area", "san francisco", "oakland\""
LOCATION:The Independent, San Francisco
WEBSITE:http://***SOLD OUT***
URL:http://***SOLD OUT***
CONTACT:
ORGANIZER;CN="Editor's Pick":https://trueskool.com/profile/RentheVinyl
 Archaeologist
ATTACH;FMTTYPE="image/jpeg":http://storage.ning.com/topology/rest/1.0/
 file/get/2247955662?profile=original
ATTENDEE;ROLE=REQ-PARTICIPANT;PARTSTAT=ACCEPTED;RSVP=TRUE;CN="Editor's
  Pick":https://trueskool.com/profile/RentheVinylArchaeologist
END:VEVENT
END:VCALENDAR
