BEGIN:VCALENDAR
PRODID:NingEventWidget-v1
VERSION:2.0
METHOD:PUBLISH
BEGIN:VTIMEZONE
TZID:America/Los_Angeles
X-LIC-LOCATION:America/Los_Angeles
BEGIN:DAYLIGHT
TZOFFSETFROM:-0800
TZOFFSETTO:-0700
TZNAME:PDT
DTSTART:19700308T020000
RRULE:FREQ=YEARLY;BYMONTH=3;BYDAY=2SU
END:DAYLIGHT
BEGIN:STANDARD
TZOFFSETFROM:-0700
TZOFFSETTO:-0800
TZNAME:PST
DTSTART:19701101T020000
RRULE:FREQ=YEARLY;BYMONTH=11;BYDAY=1SU
END:STANDARD
END:VTIMEZONE
BEGIN:VEVENT
UID:1464587:Event:294642
DTSTAMP:20260421T042819Z
SUMMARY:Skrillex
DESCRIPTION:\nVenue:\nFox Theater \n\nLocation:\nOakland, CA\n\nShow D
 ate:\nFriday, February 7\n\nShow Time:\n8:00PM\n\nOn Sale Date:\nThurs
 day, December 5\n\nTicket Price:\n$35.00 - General Admission Floor $35
 .00 - Reserved Balcony*plus applicable service fees\nTickets are also 
 available service charge free at The Fox Theater's Box Office (located
  on the 19th street side of the theater) on show dates and on Fridays 
 from noon - 7:00pm\nFor an additional $50.00, you can opt in to upgrad
 e your experience to include VIP access to the exclusive Telegraph Roo
 m before, during and after the show!\nJoin us at The Den at the Fox Th
 eater before the show for Happy Hour from 6-7pm!\n\n\n\n\n\nFor more i
 nformation visit https://trueskool.com/events/skrillex-2
DTSTART;TZID=America/Los_Angeles:20140207T200000
DTEND;TZID=America/Los_Angeles:20140207T230000
CATEGORIES:"bay area", "san francisco", "oakland\""
LOCATION:Fox Theater, Oakland
WEBSITE:http://www.ticketmaster.com/event/1C004B7A98D348B9?brand=anoth
 erplanet&camefrom=CFC_ANOTHERPLANET
URL:http://www.ticketmaster.com/event/1C004B7A98D348B9?brand=anotherpl
 anet&camefrom=CFC_ANOTHERPLANET
CONTACT:
ORGANIZER;CN="Editor's Pick":https://trueskool.com/profile/RentheVinyl
 Archaeologist
ATTACH;FMTTYPE="image/jpeg":http://storage.ning.com/topology/rest/1.0/
 file/get/2247955662?profile=original
ATTENDEE;ROLE=REQ-PARTICIPANT;PARTSTAT=ACCEPTED;RSVP=TRUE;CN="Francis 
 Camaquin":https://trueskool.com/profile/FrancisC
ATTENDEE;ROLE=REQ-PARTICIPANT;PARTSTAT=ACCEPTED;RSVP=TRUE;CN="Editor's
  Pick":https://trueskool.com/profile/RentheVinylArchaeologist
END:VEVENT
END:VCALENDAR
