BEGIN:VCALENDAR
PRODID:NingEventWidget-v1
VERSION:2.0
METHOD:PUBLISH
BEGIN:VTIMEZONE
TZID:America/Los_Angeles
X-LIC-LOCATION:America/Los_Angeles
BEGIN:DAYLIGHT
TZOFFSETFROM:-0800
TZOFFSETTO:-0700
TZNAME:PDT
DTSTART:19700308T020000
RRULE:FREQ=YEARLY;BYMONTH=3;BYDAY=2SU
END:DAYLIGHT
BEGIN:STANDARD
TZOFFSETFROM:-0700
TZOFFSETTO:-0800
TZNAME:PST
DTSTART:19701101T020000
RRULE:FREQ=YEARLY;BYMONTH=11;BYDAY=1SU
END:STANDARD
END:VTIMEZONE
BEGIN:VEVENT
UID:1464587:Event:673367
DTSTAMP:20260422T110425Z
SUMMARY:SKIZZY MARS
DESCRIPTION:SKIZZY MARS\r\nTuesday, May 1, 2018 Doors: 7:00PM |Show: 8
 :00PM 333 11th St.\r\nSan Francisco, CA 94103 (415) 255-0333 SLIM'S\n\
 nFor more information visit https://trueskool.com/events/skizzy-mars
DTSTART;TZID=America/Los_Angeles:20180501T200000
DTEND;TZID=America/Los_Angeles:20180501T230000
CATEGORIES:"bay area", oakland, "san francisco", "san jose", berkeley
LOCATION:Slim's, San Francisco
WEBSITE:https://www.eventbrite.com/e/skizzy-mars-slims-tickets-4280584
 5436
URL:https://www.eventbrite.com/e/skizzy-mars-slims-tickets-42805845436
CONTACT:
ORGANIZER;CN="Editor's Pick":https://trueskool.com/profile/RentheVinyl
 Archaeologist
ATTACH;FMTTYPE="image/jpeg":http://storage.ning.com/topology/rest/1.0/
 file/get/2248005453?profile=original
ATTENDEE;ROLE=REQ-PARTICIPANT;PARTSTAT=ACCEPTED;RSVP=TRUE;CN="Editor's
  Pick":https://trueskool.com/profile/RentheVinylArchaeologist
END:VEVENT
END:VCALENDAR
