BEGIN:VCALENDAR
PRODID:NingEventWidget-v1
VERSION:2.0
METHOD:PUBLISH
BEGIN:VTIMEZONE
TZID:America/Los_Angeles
X-LIC-LOCATION:America/Los_Angeles
BEGIN:DAYLIGHT
TZOFFSETFROM:-0800
TZOFFSETTO:-0700
TZNAME:PDT
DTSTART:19700308T020000
RRULE:FREQ=YEARLY;BYMONTH=3;BYDAY=2SU
END:DAYLIGHT
BEGIN:STANDARD
TZOFFSETFROM:-0700
TZOFFSETTO:-0800
TZNAME:PST
DTSTART:19701101T020000
RRULE:FREQ=YEARLY;BYMONTH=11;BYDAY=1SU
END:STANDARD
END:VTIMEZONE
BEGIN:VEVENT
UID:1464587:Event:632029
DTSTAMP:20260421T094253Z
SUMMARY:SKIN Presents \"Watu Wa Dunia\" Featuring Mpenzi, Ibou Ngom, D
 J Cecil, Diaztek & Son of Sōn
DESCRIPTION:Depending on which elder you are speaking to, “Isikuti
  roughly translates to “Voice of the People” or “Is Good”. A 
 dance shared by the Isukha and Idakho people of Western Kenya, Isukuti
  is a passionate, energetic dance that shapes many cultural occasions,
  from childbirths, to funerals, weddings to sporting events. The Isiku
 ti dance honors social integration and diversity and signifies the coe
 xistence between families and communities, youth and their elders. Alw
 ays, these dances are filled with singing, and are accompanied by a tr
 io of drums bearing the same name. Known for their irresistible, bass-
 y sound, the Isukuti drums are commonly used for therapy, ritual, ente
 rtainment and to connect to the world of the ancestors.\n \nThere wil
 l always be music that, when felt, connects us as people. These harmon
 ies speak to our richest histories, most humble struggles, most profou
 nd joys, our quiet losses. From the ritual to the free form, from the 
 synchronized to the rhapsodical, we bring the fullness of who we are a
 nd dance for life, as we have for centuries.\n \nContinuing tradition
 , we invite you to join us into a space of joy embodied, diversity cel
 ebrated, and life honored as we travel through the deepest rhythmic hi
 stories from Angola to Antigua,  Oakland to Zimbabwe with percussion 
 and loved ones by our side.\n \nFeaturing:\nDJ Mpenzi (Kenya / Mondia
 l Afrique)\nPercussionist Ibou Ngom (Senegal / Sambada)\n \nResidents
 :\nDJ Cecil\nDiaztek\nSon of Son\nSoul Mojo Djembefola\n \nArtisan Vi
 llage:\nApreal Showers\nCandid Arts\nJoanne Ludwig\n \nHosted By: Ms.
  Candi\n\nBrix\n581 5th St.\nOakland, USA\n9pm - 2am / 21+\n$5 Before 
 10pm / $10 After\n \nInfo: http://www.skinworldwide.net\n \nSoca | D
 ancehall | Tropical Bass | Azonto | Kudoro | Festejo | Afro-Beat | Sam
 ba | Afro-House | Highlife | Coupé DéCalé | Salsa | Folkloric | Fu
 turistic \n\nFor more information visit https://trueskool.com/events/
 skin-presents-watu-wa-dunia-featuring-mpenzi-ibou-ngom-dj-cecil
DTSTART;TZID=America/Los_Angeles:20150711T210000
DTEND;TZID=America/Los_Angeles:20150712T020000
CATEGORIES:oakland, california, downtown
LOCATION:Brix 581, Oakland, CA
WEBSITE:http://www.skinworldwide.net
URL:http://www.skinworldwide.net
CONTACT:510.629.1855
ORGANIZER;CN="miss candi":https://trueskool.com/profile/misscandi
ATTACH;FMTTYPE="image/jpeg":http://storage.ning.com/topology/rest/1.0/
 file/get/2247977211?profile=original
ATTENDEE;ROLE=REQ-PARTICIPANT;PARTSTAT=ACCEPTED;RSVP=TRUE;CN="miss can
 di":https://trueskool.com/profile/misscandi
END:VEVENT
END:VCALENDAR
