BEGIN:VCALENDAR
PRODID:NingEventWidget-v1
VERSION:2.0
METHOD:PUBLISH
BEGIN:VTIMEZONE
TZID:America/Los_Angeles
X-LIC-LOCATION:America/Los_Angeles
BEGIN:DAYLIGHT
TZOFFSETFROM:-0800
TZOFFSETTO:-0700
TZNAME:PDT
DTSTART:19700308T020000
RRULE:FREQ=YEARLY;BYMONTH=3;BYDAY=2SU
END:DAYLIGHT
BEGIN:STANDARD
TZOFFSETFROM:-0700
TZOFFSETTO:-0800
TZNAME:PST
DTSTART:19701101T020000
RRULE:FREQ=YEARLY;BYMONTH=11;BYDAY=1SU
END:STANDARD
END:VTIMEZONE
BEGIN:VEVENT
UID:1464587:Event:317191
DTSTAMP:20260421T053829Z
SUMMARY:SKIN Presents \"Movements & Migrations\" with DJ Cecil, Diazte
 k, Son of Son + Much More!
DESCRIPTION:SKIN Presents: \"Movements & Migrations\"   In the wester
 n region of Africa, there is a dance that Malinke women share called M
 oribayasa. Literally translated as, “jumble”, Moribayasa is essent
 ially done to honor the overcoming of adversity. The dancers circle th
 e village several times, singing and dancing, attracting followers. Th
 e Moribayasa dance is very important in the lives of women; and since 
 adversity requires seeking help from the surrounding villagers, the da
 nce becomes a celebration of life. An expression of joy, elation and h
 igh spirits, it is believed that the dance helps to resolve life’s p
 roblems.   In many cultures, dance teaches healthy social patterns, v
 alues, helps people work, mature, exchange praise, celebrate, learn hi
 story & poetry, encounter Gods and heal. We dance to express our colle
 ctive creativity, communal desires and a shared love for the heaviest 
 rhythms that speak directly to the heart muscle.   “Movements & Mig
 rations” is an evening to honor each other in a world that is ever c
 hanging. As we move through our challenges and migrate towards love, w
 e invite music to be our guide. Together we’ll be journeying across 
 continents and diasporas, celebrating our bond as a people and dancing
  to an irresistible global groove.   Hosted By: Candi  FEATURING:  D
 J Cecil (thePeople) Diaztek (Refuge) Son of Son (Refuge)  Live Percuss
 ion:  Soul Mojo Saad Sodaye  Visual Artist:  Omiiroo Nyeusi  Delicio
 us Eats By:  Borinquen Soul \n  Parliament \n811 Washington St.  O
 akland, CA / 21 & Over  Doors 9pm, $5 ADV / $10 After Advance Tickets:
   aroundtheworldskin.eventbrite.com\n\nFor more information visit htt
 ps://trueskool.com/events/skin-presents-movements-migrations-with-dj-c
 ecil-diaztek-son-of
DTSTART;TZID=America/Los_Angeles:20140329T210000
DTEND;TZID=America/Los_Angeles:20140330T020000
CATEGORIES:oakland, ca, bay, area, downtown
LOCATION:Parliament
WEBSITE:http://aroundtheworldskin.eventbrite.com
URL:http://aroundtheworldskin.eventbrite.com
CONTACT:
ORGANIZER;CN="miss candi":https://trueskool.com/profile/misscandi
ATTACH;FMTTYPE="image/jpeg":http://storage.ning.com/topology/rest/1.0/
 file/get/2247957536?profile=original
ATTENDEE;ROLE=REQ-PARTICIPANT;PARTSTAT=ACCEPTED;RSVP=TRUE;CN="miss can
 di":https://trueskool.com/profile/misscandi
END:VEVENT
END:VCALENDAR
