BEGIN:VCALENDAR
PRODID:NingEventWidget-v1
VERSION:2.0
METHOD:PUBLISH
BEGIN:VTIMEZONE
TZID:America/Los_Angeles
X-LIC-LOCATION:America/Los_Angeles
BEGIN:DAYLIGHT
TZOFFSETFROM:-0800
TZOFFSETTO:-0700
TZNAME:PDT
DTSTART:19700308T020000
RRULE:FREQ=YEARLY;BYMONTH=3;BYDAY=2SU
END:DAYLIGHT
BEGIN:STANDARD
TZOFFSETFROM:-0700
TZOFFSETTO:-0800
TZNAME:PST
DTSTART:19701101T020000
RRULE:FREQ=YEARLY;BYMONTH=11;BYDAY=1SU
END:STANDARD
END:VTIMEZONE
BEGIN:VEVENT
UID:1464587:Event:289588
DTSTAMP:20260421T083516Z
SUMMARY:SKIN: Cuban Liberation & Haitian Independence Celebration with
  DJ Cecil + Monique Vieras, Leydis of Cuba, Emancipacion, Diaztek, Son
  of Son + More!
DESCRIPTION:Click Here for a Mini-Mix by Diaztek!\nJoin us as we celeb
 rate Cuban Liberation, Haitian Independence and the promise of a New Y
 ear with the heaviest sounds from the African and Latin diasporas and 
 the Caribbean. \n\nEnjoy an evening of Kudoro, Festejo, Zouk, Tropica
 l Bass, Dancehall, Cumbia, Salsa and more with DJ Cecil with vocalist 
 Monique Vieras & Percussionists Ajayi Jackson & Soul Mojo, DJ Leydis o
 f Cuba,  Emancipacion, Diaztek & Son of Son. Also live Art + Exhibit 
 by Jack & Alise Eastgate, Handmade Goods by Estilo Clothing, Afro-Cuba
 n Salsa Class led by Sean Foster and lots more in store!\n\n\n\nFor mo
 re information visit https://trueskool.com/events/skin-cuban-liberatio
 n-haitian-independence-celebration-with-dj
DTSTART;TZID=America/Los_Angeles:20140111T200000
DTEND;TZID=America/Los_Angeles:20140112T020000
CATEGORIES:oakland, ca, bay, area, east, the, town
LOCATION:Venue Oakland, Oakland
WEBSITE:http://nativeskin.eventbrite.com/
URL:http://nativeskin.eventbrite.com/
CONTACT:
ORGANIZER;CN="miss candi":https://trueskool.com/profile/misscandi
ATTACH;FMTTYPE="image/jpeg":http://storage.ning.com/topology/rest/1.0/
 file/get/2247956279?profile=original
ATTENDEE;ROLE=REQ-PARTICIPANT;PARTSTAT=ACCEPTED;RSVP=TRUE;CN="Sarah - 
 Reggae Gyals":https://trueskool.com/profile/SarahReggaeGyals
ATTENDEE;ROLE=REQ-PARTICIPANT;PARTSTAT=ACCEPTED;RSVP=TRUE;CN="miss can
 di":https://trueskool.com/profile/misscandi
END:VEVENT
END:VCALENDAR
