BEGIN:VCALENDAR
PRODID:NingEventWidget-v1
VERSION:2.0
METHOD:PUBLISH
BEGIN:VTIMEZONE
TZID:America/Los_Angeles
X-LIC-LOCATION:America/Los_Angeles
BEGIN:DAYLIGHT
TZOFFSETFROM:-0800
TZOFFSETTO:-0700
TZNAME:PDT
DTSTART:19700308T020000
RRULE:FREQ=YEARLY;BYMONTH=3;BYDAY=2SU
END:DAYLIGHT
BEGIN:STANDARD
TZOFFSETFROM:-0700
TZOFFSETTO:-0800
TZNAME:PST
DTSTART:19701101T020000
RRULE:FREQ=YEARLY;BYMONTH=11;BYDAY=1SU
END:STANDARD
END:VTIMEZONE
BEGIN:VEVENT
UID:1464587:Event:63259
DTSTAMP:20260420T212117Z
SUMMARY:SISTERZ OF THE UNDERGROUND 9 YEAR ANNIVERSARY
DESCRIPTION:ON BLAZT! and WEST BOUND Present....\n\nTHE SISTERZ OF THE
  UNDERGROUND 9 YEAR ANNIVERSARY\n\nThe Sisterz of the Underground (www
 .sisterzunderground.com), an all female collective of Hip Hop artists,
  is celebrating 9 years of preserving the culture of Hip Hop and empow
 ering females alike. To celebrate, SOTU will be holding a huge event s
 howcasing all elements of Hip Hop and featuring an all female line-up.
  Please join us!\nâ™¥ and respect\n\nFRIDAY AUGUST 20TH\nCLUB 6\n60th 
 6th St.\nSAN FRANCISCO,CA\n\n+21 $5 b4 10:30\n\nOn the 1's AND 2's\nâ™
 ¥\nDJ SHORTEE\nâ™¥\nLADY FINGAZ (La Femme Deadly Venomns)\nPONY P (LOW
 SF)\nCELSKII & DEEANDROID (La Femme Deadly Venomns)\nDANEEKAH Coo-Yah)
 \nCRYKIT (SOTU)\nGREEN B (Coo-Yah)\nEM-1\n\nLIVE on the MIC\nHARD CAND
 Y (Miss Haze of 40Love & Denise Wallace)\nEX-PYRAMIDS:AUDIO ANGEL w/MI
 KE REED on drums\nKAT 010 (Crown City Rockers) w/LADY FINGAZ\nTOAST (S
 OTU)\nGYPSY LUV\n\nHitting the DANCE FLOOR\nEXTRA CREDIT KRU (SOTU)\nD
 E LA FEMME\nDS PLAYERS\nLADIES OF WEST BOUND\n\nLIVE ART\nTOOFLY (NYC)
 \n\nHostess with the mostess\nMZ FRAN (Wild n' Crazy Kids)\n\nSponsore
 d by:\nTHE VAPOR ROOM, UPPER PLAYGROUND, LOWER HATERS, CELLSPACE, NIKI
 TA, MIXCRATE\n\nFor more information visit https://trueskool.com/event
 s/sisterz-of-the-underground-9
DTSTART;TZID=America/Los_Angeles:20100820T213000
DTEND;TZID=America/Los_Angeles:20100821T020000
CATEGORIES:hip, hop, drum, and, bass, dubstep, reggae, old, school, fu
 nk, breaks, house, soul, dance
LOCATION:CLUB 6
WEBSITE:http://www.facebook.com/event.php?eid=135754403129986&ref=ts
URL:http://www.facebook.com/event.php?eid=135754403129986&ref=ts
CONTACT:
ORGANIZER;CN="Traci P":https://trueskool.com/profile/TraciP
ATTACH;FMTTYPE="image/jpeg":http://storage.ning.com/topology/rest/1.0/
 file/get/2247882273?profile=original
ATTENDEE;ROLE=REQ-PARTICIPANT;PARTSTAT=ACCEPTED;RSVP=TRUE;CN="Traci P"
 :https://trueskool.com/profile/TraciP
END:VEVENT
END:VCALENDAR
