BEGIN:VCALENDAR
PRODID:NingEventWidget-v1
VERSION:2.0
METHOD:PUBLISH
BEGIN:VTIMEZONE
TZID:America/Los_Angeles
X-LIC-LOCATION:America/Los_Angeles
BEGIN:DAYLIGHT
TZOFFSETFROM:-0800
TZOFFSETTO:-0700
TZNAME:PDT
DTSTART:19700308T020000
RRULE:FREQ=YEARLY;BYMONTH=3;BYDAY=2SU
END:DAYLIGHT
BEGIN:STANDARD
TZOFFSETFROM:-0700
TZOFFSETTO:-0800
TZNAME:PST
DTSTART:19701101T020000
RRULE:FREQ=YEARLY;BYMONTH=11;BYDAY=1SU
END:STANDARD
END:VTIMEZONE
BEGIN:VEVENT
UID:1464587:Event:33178
DTSTAMP:20260422T225940Z
SUMMARY:Sisterz of the Underground 8yr Anniversary
DESCRIPTION:On Blazt! & Hit the Floor presents\n\nSisterz of the Under
 ground\n8 Year Anniversary\n\nDejays: Lady Fingaz, Cellskiii, Deeandro
 id, Shredone, Tyra from Saigon, Green B, Symilak Chyld, Jeanine DaFeen
 .\n\nArt from Mary J, Jazzy Fresh, Marie Carmeli, Karine Leung.\n\nRoc
 kin' it: Extra Credit Kru, Funkanometry, Foreign Exchange.\n\nFree Giv
 eaways all night from Kid Robot, Clout, and Nikita.\n\nHosted by Short
 yrockwell\n\n$5 b4 11 w/ RSVP\n$10 all night\n\nFor more information v
 isit https://trueskool.com/events/sisterz-of-the-underground-8yr
DTSTART;TZID=America/Los_Angeles:20090619T210000
DTEND;TZID=America/Los_Angeles:20090620T150000
CATEGORIES:hip, hop, house
LOCATION:Club Six, San Francisco, CA
WEBSITE:http://www.clubsix1.com
URL:http://www.clubsix1.com
CONTACT:415-531-6593
ORGANIZER:Angel
ATTACH;FMTTYPE="image/jpeg":
ATTENDEE;ROLE=REQ-PARTICIPANT;PARTSTAT=ACCEPTED;RSVP=TRUE;CN=Cecily:ht
 tps://trueskool.com/profile/Cecily
END:VEVENT
END:VCALENDAR
