BEGIN:VCALENDAR
PRODID:NingEventWidget-v1
VERSION:2.0
METHOD:PUBLISH
BEGIN:VTIMEZONE
TZID:America/Los_Angeles
X-LIC-LOCATION:America/Los_Angeles
BEGIN:DAYLIGHT
TZOFFSETFROM:-0800
TZOFFSETTO:-0700
TZNAME:PDT
DTSTART:19700308T020000
RRULE:FREQ=YEARLY;BYMONTH=3;BYDAY=2SU
END:DAYLIGHT
BEGIN:STANDARD
TZOFFSETFROM:-0700
TZOFFSETTO:-0800
TZNAME:PST
DTSTART:19701101T020000
RRULE:FREQ=YEARLY;BYMONTH=11;BYDAY=1SU
END:STANDARD
END:VTIMEZONE
BEGIN:VEVENT
UID:1464587:Event:33527
DTSTAMP:20260423T002205Z
SUMMARY:SISTERZ OF THE UNDERGROUND 8 YEAR ANNIVERSARY
DESCRIPTION:LADY FINGAZ, GREEN B, CELLSKIII AND DEEANDROID, TYRA FROM 
 SAIGON, SHREDONE, JEANIN DA FEEN and SYMILAK CHYLD.\n\nThe Sisterz of 
 the Underground are celebrating their 8 year anniversary party with a 
 blow-out at Club 6. S.O.T.U. is a collective of female hip hop artists
  from across the country, rooted right here in the Bay Area. The night
  is a celebration of Hip Hop culture featuring an all-female DJ Line i
 ncluding LADY FINGAZ, GREEN B, CELLSKIII AND DEEANDROID, TYRA FROM SAI
 GON, SHREDONE, JEANIN DA FEEN and SYMILAK CHYLD.\n\nThe night will als
 o feature amazing dance crews doing both performances and cyphers alon
 g with an art show from some of SF's most talented female artists.\n\n
 Special giveaways from KID ROBOT, NIKITA and CLOUT Magazine all night 
 long!!\n\nThe party is also the OFFICIAL PRE-PARTY FOR RENEGADES ROCKE
 RS\nDOORS @ 10pm $5 w/RSVP @going.com/sotu\n\n\nSwing through, this is
  a night not to be missed. Where my ladies at!!!?? To know more about 
 SOTU visit the website at www.sisterzunderground.com or check out our 
 Current TV pod at :\n\nhttp://current.com/items/87766391_underground-s
 isterz.htm\n\nFor more information visit https://trueskool.com/events/
 sisterz-of-the-underground-8
DTSTART;TZID=America/Los_Angeles:20090619T213000
DTEND;TZID=America/Los_Angeles:20090620T020000
CATEGORIES:hip, hop, breaks, jam, funk, old, school, dancing, live, mu
 sic, celebration
LOCATION:CLUB 6, San Francisco, CA
WEBSITE:http://www.sisterzunderground.com
URL:http://www.sisterzunderground.com
CONTACT:
ORGANIZER;CN="Traci P":https://trueskool.com/profile/TraciP
ATTACH;FMTTYPE="image/jpeg":http://storage.ning.com/topology/rest/1.0/
 file/get/2247857876?profile=original
ATTENDEE;ROLE=REQ-PARTICIPANT;PARTSTAT=ACCEPTED;RSVP=TRUE;CN="DJ Chick
 en Skratch":https://trueskool.com/profile/DJChickenSkratch
ATTENDEE;ROLE=REQ-PARTICIPANT;PARTSTAT=ACCEPTED;RSVP=TRUE;CN=Adia:http
 s://trueskool.com/profile/Adia
ATTENDEE;ROLE=REQ-PARTICIPANT;PARTSTAT=ACCEPTED;RSVP=TRUE;CN="Randy Bo
 ogie":https://trueskool.com/profile/RandyBoogie
ATTENDEE;ROLE=REQ-PARTICIPANT;PARTSTAT=ACCEPTED;RSVP=TRUE;CN="Traci P"
 :https://trueskool.com/profile/TraciP
END:VEVENT
END:VCALENDAR
