BEGIN:VCALENDAR
PRODID:NingEventWidget-v1
VERSION:2.0
METHOD:PUBLISH
BEGIN:VTIMEZONE
TZID:America/Los_Angeles
X-LIC-LOCATION:America/Los_Angeles
BEGIN:DAYLIGHT
TZOFFSETFROM:-0800
TZOFFSETTO:-0700
TZNAME:PDT
DTSTART:19700308T020000
RRULE:FREQ=YEARLY;BYMONTH=3;BYDAY=2SU
END:DAYLIGHT
BEGIN:STANDARD
TZOFFSETFROM:-0700
TZOFFSETTO:-0800
TZNAME:PST
DTSTART:19701101T020000
RRULE:FREQ=YEARLY;BYMONTH=11;BYDAY=1SU
END:STANDARD
END:VTIMEZONE
BEGIN:VEVENT
UID:1464587:Event:388255
DTSTAMP:20260421T020941Z
SUMMARY:QUI510 LIVE @ Yoshi's -  Sisters Of Soul 4
DESCRIPTION:It's no secret the Bay Area is filled with incredible tale
 nt and there are some exceptional artist that have yet to be discovere
 d. Come experience the Bay Area's \"THE BEST KEPT SECRET\" as we intro
 duce another amazing cast of SOUL SISTERS leading the new movement in 
 R&B, Funk, Jazz and infectious Soul Music.\nHosted by the multi-talent
 ed QUI510 and the Revival Band.\nPresented by Qui510, I TOLD YOU ENTER
 TAINMENT and Mark Elliott & The A-List Musiq Circle (Your Bay Area's W
 ho's Who Entertainment Network)\n\nFor more information visit https://
 trueskool.com/events/sisters-of-soul-4-live-yoshi-s
DTSTART;TZID=America/Los_Angeles:20140730T193000
DTEND;TZID=America/Los_Angeles:20140730T220000
CATEGORIES:"yoshi's oakland", "bay area", sacramento
LOCATION:Oakland, Ca
WEBSITE:http://www.yoshis.com/oakland/jazzclub/artist/show/4376
URL:http://www.yoshis.com/oakland/jazzclub/artist/show/4376
CONTACT:510.238.9200
ORGANIZER:A-List Musiq Circle, We Rep The Bay, I Told U Enter, Mark El
 liott, Qui510
ATTACH;FMTTYPE="image/jpeg":http://storage.ning.com/topology/rest/1.0/
 file/get/2247964395?profile=original
ATTENDEE;ROLE=REQ-PARTICIPANT;PARTSTAT=ACCEPTED;RSVP=TRUE;CN=Qui510:ht
 tps://trueskool.com/profile/QuimaniKBrown
END:VEVENT
END:VCALENDAR
