BEGIN:VCALENDAR
PRODID:NingEventWidget-v1
VERSION:2.0
METHOD:PUBLISH
BEGIN:VTIMEZONE
TZID:America/Los_Angeles
X-LIC-LOCATION:America/Los_Angeles
BEGIN:DAYLIGHT
TZOFFSETFROM:-0800
TZOFFSETTO:-0700
TZNAME:PDT
DTSTART:19700308T020000
RRULE:FREQ=YEARLY;BYMONTH=3;BYDAY=2SU
END:DAYLIGHT
BEGIN:STANDARD
TZOFFSETFROM:-0700
TZOFFSETTO:-0800
TZNAME:PST
DTSTART:19701101T020000
RRULE:FREQ=YEARLY;BYMONTH=11;BYDAY=1SU
END:STANDARD
END:VTIMEZONE
BEGIN:VEVENT
UID:1464587:Event:811526
DTSTAMP:20260421T042910Z
SUMMARY:SIR MIX-A-LOT (CANCELLED)
DESCRIPTION:ENTER TO WIN A PAIR OF TICKETS. WINNER WILL BE DRAWN RANDO
 MLY AND ANNOUNCED 2 DAYS PRIOR TO EVENT. \r\n\r\n\r\nThursday October
  13 \r\nSir Mix-A-Lot\r\nThe Stonies\r\nZ-Man with DJ Quest\r\n\r\n@ 
 Bottom of the Hill, 1233 17th St, San Francisco, CA 94107\r\n8:00 PM 
 doors -- music at 8:30PM\r\n••• 21 AND OVER\r\n$40 in advance / 
 $50 at the door\r\n>> BUY TICKETS\r\n\r\n\r\n\r\n\r\nSIR MIX-A-LOT\r\n
 Sir Mix-A-Lot might be best known for Baby Got Back but, what most saw
  as a pop inspired track aimed at the mainstream was actually a song w
 ritten about his distain for how Hollywood viewed & casted women of co
 lor in the 80s and early 90s. “Although there were exceptions (Phyli
 cia Rashad, Diane Carrol, etc.) many women of color were cast as strug
 gling prostitutes who doubled as police informants or streetwise singl
 e mothers struggling to make it in the ghetto and of course....maids.
  -Sir Mix-A-Lot BGB was written in a way to poke at what were then t
 he beauty police (Cosmo, Hollywood, TV, etc.) in way that would go alm
 ost unnoticed by those not hearing lines outside of “I like big butt
 s”. By the time the powers that be figured it out, it was already #1
  on the charts. But even before he struck crossover gold, Sir Mix-A-Lo
 t was one of rap’s great D.I.Y. success stories. Coming from a city 
 — Seattle — which at that time had a strictly local Hip Hop scene,
  Mix-A-Lot co-founded his own record label, promoted his music himself
 , produced and mixed all his own tracks, built his own studio by himse
 lf and essentially pulled himself up by the proverbial American bootst
 raps. Even before Baby Got Back, Mix-A-Lot was a platinum-selling albu
 m artist with a strong following in the hip-hop community, known for b
 ouncy, danceable, bass-heavy tracks indebted to old-school electro. Ev
 en though Mix had sold over 2million units on an independent label, it
  took signing with Rick Rubin’s Def American label — to carry him 
 into the mainstream. With three straight platinum albums and a multi-p
 latinum single, some still think he is a one hit wonder. Lyrically, hi
 s best material came after Baby Got Back. \n\nFor more information vi
 sit https://trueskool.com/events/sir-mix-a-lot-1
DTSTART;TZID=America/Los_Angeles:20221013T200000
DTEND;TZID=America/Los_Angeles:20221013T230000
CATEGORIES:"bay area", "san francisco"
LOCATION:Bottom of the Hill, San Francisco
WEBSITE:http://www.bottomofthehill.com/stubmatic/event20221013.html
URL:http://www.bottomofthehill.com/stubmatic/event20221013.html
CONTACT:
ORGANIZER:Bottom of the Hill
ATTACH;FMTTYPE="image/jpeg":https://storage.ning.com/topology/rest/1.0
 /file/get/10821606680?profile=original
ATTENDEE;ROLE=REQ-PARTICIPANT;PARTSTAT=ACCEPTED;RSVP=TRUE;CN="Editor's
  Pick":https://trueskool.com/profile/RentheVinylArchaeologist
END:VEVENT
END:VCALENDAR
