BEGIN:VCALENDAR
PRODID:NingEventWidget-v1
VERSION:2.0
METHOD:PUBLISH
BEGIN:VTIMEZONE
TZID:America/Los_Angeles
X-LIC-LOCATION:America/Los_Angeles
BEGIN:DAYLIGHT
TZOFFSETFROM:-0800
TZOFFSETTO:-0700
TZNAME:PDT
DTSTART:19700308T020000
RRULE:FREQ=YEARLY;BYMONTH=3;BYDAY=2SU
END:DAYLIGHT
BEGIN:STANDARD
TZOFFSETFROM:-0700
TZOFFSETTO:-0800
TZNAME:PST
DTSTART:19701101T020000
RRULE:FREQ=YEARLY;BYMONTH=11;BYDAY=1SU
END:STANDARD
END:VTIMEZONE
BEGIN:VEVENT
UID:1464587:Event:830867
DTSTAMP:20260421T202139Z
SUMMARY:SiR: Life is Good Tour
DESCRIPTION:SSiR: Life is Good Tour\r\nTue • Aug 20 • 8:00 PM\r\nT
 he Masonic 1111 California St, San Francisco, CA 94108\n\nFor more inf
 ormation visit https://trueskool.com/events/sir-life-is-good-tour
DTSTART;TZID=America/Los_Angeles:20240820T200000
DTEND;TZID=America/Los_Angeles:20240820T230000
CATEGORIES:"bay area", oakland, "san francisco", "san jose", berkeley
LOCATION:The Masonic, SF
WEBSITE:https://concerts.livenation.com/sir-life-is-good-tour-san-fran
 cisco-california-08-20-2024/event/1C00607DDA52560B?_gl=1*1cg2cmk*_ga*N
 DkzMTYzNTI5LjE3MTk2MDg5NDY.*_ga_C1T806G4DF*MTcxOTYwODk0OC4xLjEuMTcxOTY
 wOTE3Ni42MC4wLjA.*_ga_H1KKSGW33X*MTcxOTYwODk0OC4xLjEuMTcxOTYwOTE3Ni42M
 C4wLjA.&amp;_ga=2.267356429.2084895533.1719608948-493163529.1719608946
URL:https://concerts.livenation.com/sir-life-is-good-tour-san-francisc
 o-california-08-20-2024/event/1C00607DDA52560B?_gl=1*1cg2cmk*_ga*NDkzM
 TYzNTI5LjE3MTk2MDg5NDY.*_ga_C1T806G4DF*MTcxOTYwODk0OC4xLjEuMTcxOTYwOTE
 3Ni42MC4wLjA.*_ga_H1KKSGW33X*MTcxOTYwODk0OC4xLjEuMTcxOTYwOTE3Ni42MC4wL
 jA.&amp;_ga=2.267356429.2084895533.1719608948-493163529.1719608946
CONTACT:
ORGANIZER;CN="Editor's Pick":https://trueskool.com/profile/RentheVinyl
 Archaeologist
ATTACH;FMTTYPE="image/jpeg":https://storage.ning.com/topology/rest/1.0
 /file/get/12673878271?profile=original
ATTENDEE;ROLE=REQ-PARTICIPANT;PARTSTAT=ACCEPTED;RSVP=TRUE;CN="Editor's
  Pick":https://trueskool.com/profile/RentheVinylArchaeologist
END:VEVENT
END:VCALENDAR
