BEGIN:VCALENDAR
PRODID:NingEventWidget-v1
VERSION:2.0
METHOD:PUBLISH
BEGIN:VTIMEZONE
TZID:America/Los_Angeles
X-LIC-LOCATION:America/Los_Angeles
BEGIN:DAYLIGHT
TZOFFSETFROM:-0800
TZOFFSETTO:-0700
TZNAME:PDT
DTSTART:19700308T020000
RRULE:FREQ=YEARLY;BYMONTH=3;BYDAY=2SU
END:DAYLIGHT
BEGIN:STANDARD
TZOFFSETFROM:-0700
TZOFFSETTO:-0800
TZNAME:PST
DTSTART:19701101T020000
RRULE:FREQ=YEARLY;BYMONTH=11;BYDAY=1SU
END:STANDARD
END:VTIMEZONE
BEGIN:VEVENT
UID:1464587:Event:37022
DTSTAMP:20260420T213305Z
SUMMARY:Singer/Songwriter/Pianist Rachel Efron CD Release Party with V
 alerie Orth Band and Mia and Jonah
DESCRIPTION:Berkeley-based singer/songwriter/pianist Rachel Efron rele
 ases her new CD, \"4AM,\" produced by Jon Evans (bassist for Tori Amos
 ), and featuring her trio (Rachel on piano and vocals, Jon Arkin on dr
 ums, and Dan Feiszli on bass). All-original piano-centric artistic pop
 . She shares the night with the edgy/soulful Valerie Orth Band and the
  gorgeous folk duo, Mia and Jonah.\n\nFor more information visit https
 ://trueskool.com/events/singersongwriterpianist-rachel
DTSTART;TZID=America/Los_Angeles:20090822T210000
DTEND;TZID=America/Los_Angeles:20090823T010000
CATEGORIES:"alternative/pop/jazz"
LOCATION:Cafe Du Nord
WEBSITE:http://www.cafedunord.com
URL:http://www.cafedunord.com
CONTACT:415.861.5016
ORGANIZER;CN="Rachel Efron":https://trueskool.com/profile/RachelEfron
ATTACH;FMTTYPE="image/jpeg":
ATTENDEE;ROLE=REQ-PARTICIPANT;PARTSTAT=ACCEPTED;RSVP=TRUE;CN="Rachel E
 fron":https://trueskool.com/profile/RachelEfron
END:VEVENT
END:VCALENDAR
