BEGIN:VCALENDAR
PRODID:NingEventWidget-v1
VERSION:2.0
METHOD:PUBLISH
BEGIN:VTIMEZONE
TZID:America/Los_Angeles
X-LIC-LOCATION:America/Los_Angeles
BEGIN:DAYLIGHT
TZOFFSETFROM:-0800
TZOFFSETTO:-0700
TZNAME:PDT
DTSTART:19700308T020000
RRULE:FREQ=YEARLY;BYMONTH=3;BYDAY=2SU
END:DAYLIGHT
BEGIN:STANDARD
TZOFFSETFROM:-0700
TZOFFSETTO:-0800
TZNAME:PST
DTSTART:19701101T020000
RRULE:FREQ=YEARLY;BYMONTH=11;BYDAY=1SU
END:STANDARD
END:VTIMEZONE
BEGIN:VEVENT
UID:1464587:Event:292749
DTSTAMP:20260421T102031Z
SUMMARY:Sinbad with Memphis Red and the Funk Stank Nasty Band: A Night
  of funk and Comedy
DESCRIPTION:Wednesday, March 198pm & 10pm $35\nThursday, March 208pm &
  10pm $35\nPremier seating + Meet and Greet $60\n \nPREMIER SEATING +
  MEET and GREET tickets: Yoshi's will provide seating in the first two
  rows for the performance. The Meet and Greet will be one hour before 
 the performance (7PM) and will take place in the club.\n\nFor more inf
 ormation visit https://trueskool.com/events/sinbad-with-memphis-red-an
 d-the-funk-stank-nasty-band-a-night-of-
DTSTART;TZID=America/Los_Angeles:20140319T200000
DTEND;TZID=America/Los_Angeles:20140320T220000
CATEGORIES:"bay area", "san francisco", oakland
LOCATION:Yoshi's, Oakland
WEBSITE:http://yoshis.inticketing.com/evlist.php?events=search&searchs
 tr=Sinbad&smonth=0&sday=0&syear=0&vstate=0
URL:http://yoshis.inticketing.com/evlist.php?events=search&searchstr=S
 inbad&smonth=0&sday=0&syear=0&vstate=0
CONTACT:
ORGANIZER;CN="Editor's Pick":https://trueskool.com/profile/RentheVinyl
 Archaeologist
ATTACH;FMTTYPE="image/jpeg":http://storage.ning.com/topology/rest/1.0/
 file/get/2247955807?profile=original
ATTENDEE;ROLE=REQ-PARTICIPANT;PARTSTAT=ACCEPTED;RSVP=TRUE;CN="Charles 
 J. Jolivet Jr.":https://trueskool.com/profile/CharlesJJolivetJr
ATTENDEE;ROLE=REQ-PARTICIPANT;PARTSTAT=ACCEPTED;RSVP=TRUE;CN="Editor's
  Pick":https://trueskool.com/profile/RentheVinylArchaeologist
ATTENDEE;ROLE=REQ-PARTICIPANT;PARTSTAT=TENTATIVE;RSVP=TRUE;CN="tiffany
  thomas":https://trueskool.com/profile/tiffanythomas
END:VEVENT
END:VCALENDAR
