BEGIN:VCALENDAR
PRODID:NingEventWidget-v1
VERSION:2.0
METHOD:PUBLISH
BEGIN:VTIMEZONE
TZID:America/Los_Angeles
X-LIC-LOCATION:America/Los_Angeles
BEGIN:DAYLIGHT
TZOFFSETFROM:-0800
TZOFFSETTO:-0700
TZNAME:PDT
DTSTART:19700308T020000
RRULE:FREQ=YEARLY;BYMONTH=3;BYDAY=2SU
END:DAYLIGHT
BEGIN:STANDARD
TZOFFSETFROM:-0700
TZOFFSETTO:-0800
TZNAME:PST
DTSTART:19701101T020000
RRULE:FREQ=YEARLY;BYMONTH=11;BYDAY=1SU
END:STANDARD
END:VTIMEZONE
BEGIN:VEVENT
UID:1464587:Event:292850
DTSTAMP:20260421T083908Z
SUMMARY:SINBAD with Memphis Red and the Funk Stank Nasty Band - A Nigh
 t of funk and Comedy
DESCRIPTION:Friday, Mar 21\n\n8pm GA $35, VIP Meet & Greet $60\n10pm 
 GA $35\n\nNote: This show was moved from Feb 28. Contact the Box Offic
 e with questions at 415-655-5600.\n\nFor more information visit https:
 //trueskool.com/events/sinbad-wit-memphis-red-and-the-funk-stank-nasty
 -band-a-night-of-
DTSTART;TZID=America/Los_Angeles:20140321T200000
DTEND;TZID=America/Los_Angeles:20140322T120000
CATEGORIES:"bay area", "san francisco", "oakland\""
LOCATION:Yoshi's, San Francisco
WEBSITE:http://sfyoshis2.inticketing.com/evlist.php?events=search&sear
 chstr=sinbad&smonth=0&sday=0&syear=0&vstate=0
URL:http://sfyoshis2.inticketing.com/evlist.php?events=search&searchst
 r=sinbad&smonth=0&sday=0&syear=0&vstate=0
CONTACT:
ORGANIZER;CN="Editor's Pick":https://trueskool.com/profile/RentheVinyl
 Archaeologist
ATTACH;FMTTYPE="image/jpeg":http://storage.ning.com/topology/rest/1.0/
 file/get/2247955543?profile=original
ATTENDEE;ROLE=REQ-PARTICIPANT;PARTSTAT=ACCEPTED;RSVP=TRUE;CN="Charles 
 J. Jolivet Jr.":https://trueskool.com/profile/CharlesJJolivetJr
ATTENDEE;ROLE=REQ-PARTICIPANT;PARTSTAT=ACCEPTED;RSVP=TRUE;CN="Editor's
  Pick":https://trueskool.com/profile/RentheVinylArchaeologist
END:VEVENT
END:VCALENDAR
