BEGIN:VCALENDAR
PRODID:NingEventWidget-v1
VERSION:2.0
METHOD:PUBLISH
BEGIN:VTIMEZONE
TZID:America/Los_Angeles
X-LIC-LOCATION:America/Los_Angeles
BEGIN:DAYLIGHT
TZOFFSETFROM:-0800
TZOFFSETTO:-0700
TZNAME:PDT
DTSTART:19700308T020000
RRULE:FREQ=YEARLY;BYMONTH=3;BYDAY=2SU
END:DAYLIGHT
BEGIN:STANDARD
TZOFFSETFROM:-0700
TZOFFSETTO:-0800
TZNAME:PST
DTSTART:19701101T020000
RRULE:FREQ=YEARLY;BYMONTH=11;BYDAY=1SU
END:STANDARD
END:VTIMEZONE
BEGIN:VEVENT
UID:1464587:Event:142324
DTSTAMP:20260421T180504Z
SUMMARY:Silk Live @ Suite 410
DESCRIPTION:Sillk Album Release Party and Live Performance \nPerforma
 nce & Live Recording  \nLive at Suite 410 (Geoffrey's Oakland)  \n
 Location:  410 14th St Oakland,CA\nDate: Friday 1/18/2013\nDoors Open
 : 9:00 PM\nShowtime: 10:00 PM \nHosted By: Lady Ray & Miss Kimmie fro
 m KMEL\nMusic Powered By:  The World Famus Rick and Russ Show\nDress 
 to Impress\n \nH.E.G. is the same company that produced K.Michelles &
  Urban Mystic sold out events at Yoshi's , so don't let this show pass
  you by.\n  \n\nFor more information visit https://trueskool.com/eve
 nts/silk-live-suite-410-1
DTSTART;TZID=America/Los_Angeles:20130118T220000
DTEND;TZID=America/Los_Angeles:20130119T140000
CATEGORIES:oakland, ca
LOCATION:Suite 410, Oakland
WEBSITE:http://hegpresents.eventbrite.com
URL:http://hegpresents.eventbrite.com
CONTACT:
ORGANIZER;CN="H.E.G.Presents":https://trueskool.com/profile/HEGPresent
 s
ATTACH;FMTTYPE="image/jpeg":http://storage.ning.com/topology/rest/1.0/
 file/get/2247930743?profile=original
ATTENDEE;ROLE=REQ-PARTICIPANT;PARTSTAT=ACCEPTED;RSVP=TRUE;CN="H.E.G.Pr
 esents":https://trueskool.com/profile/HEGPresents
END:VEVENT
END:VCALENDAR
