BEGIN:VCALENDAR
PRODID:NingEventWidget-v1
VERSION:2.0
METHOD:PUBLISH
BEGIN:VTIMEZONE
TZID:America/Los_Angeles
X-LIC-LOCATION:America/Los_Angeles
BEGIN:DAYLIGHT
TZOFFSETFROM:-0800
TZOFFSETTO:-0700
TZNAME:PDT
DTSTART:19700308T020000
RRULE:FREQ=YEARLY;BYMONTH=3;BYDAY=2SU
END:DAYLIGHT
BEGIN:STANDARD
TZOFFSETFROM:-0700
TZOFFSETTO:-0800
TZNAME:PST
DTSTART:19701101T020000
RRULE:FREQ=YEARLY;BYMONTH=11;BYDAY=1SU
END:STANDARD
END:VTIMEZONE
BEGIN:VEVENT
UID:1464587:Event:153480
DTSTAMP:20260421T163410Z
SUMMARY:SILK Live at YOSHI'S San Francisco Presented By H.E.G.
DESCRIPTION:SILK\nAlbum Release Party\nWith  Special  Guest\n01/18/1
 3​\n​\n​\n​Live Recording\n​\n​\nLive at Yoshi's San Franc
 isco\n​\nLocation: 1330 Fillmore St, San Francisco\n​\nDate: Frida
 y 01/18/13\n​\nDoors Open: 9:30 PM\n​\nShowtime: 10:00 PM\n​\nHo
 sted By: KMEL \n​\nMusic Powered By: The World Famous Rick & Russ Sh
 ow​\n​\nLimited Pre-Sale Tickets: $25\n​\nLimited Meet and Greet
   tickets available: $35\n\nFor more information visit https://truesk
 ool.com/events/silk-live-at-yoshi-s-san-francisco-presented-by-h-e-g
DTSTART;TZID=America/Los_Angeles:20130118T213000
DTEND;TZID=America/Los_Angeles:20130119T120000
CATEGORIES:san, francisco, ca
LOCATION:Yoshi's San Francisco
WEBSITE:http://www.yoshis.com/sanfrancisco/livemusic/artist/show/3208
URL:http://www.yoshis.com/sanfrancisco/livemusic/artist/show/3208
CONTACT:415.655.5600
ORGANIZER;CN="H.E.G.Presents":https://trueskool.com/profile/HEGPresent
 s
ATTACH;FMTTYPE="image/jpeg":http://storage.ning.com/topology/rest/1.0/
 file/get/2247932364?profile=original
ATTENDEE;ROLE=REQ-PARTICIPANT;PARTSTAT=ACCEPTED;RSVP=TRUE;CN="H.E.G.Pr
 esents":https://trueskool.com/profile/HEGPresents
END:VEVENT
END:VCALENDAR
