BEGIN:VCALENDAR
PRODID:NingEventWidget-v1
VERSION:2.0
METHOD:PUBLISH
BEGIN:VTIMEZONE
TZID:America/Los_Angeles
X-LIC-LOCATION:America/Los_Angeles
BEGIN:DAYLIGHT
TZOFFSETFROM:-0800
TZOFFSETTO:-0700
TZNAME:PDT
DTSTART:19700308T020000
RRULE:FREQ=YEARLY;BYMONTH=3;BYDAY=2SU
END:DAYLIGHT
BEGIN:STANDARD
TZOFFSETFROM:-0700
TZOFFSETTO:-0800
TZNAME:PST
DTSTART:19701101T020000
RRULE:FREQ=YEARLY;BYMONTH=11;BYDAY=1SU
END:STANDARD
END:VTIMEZONE
BEGIN:VEVENT
UID:1464587:Event:679412
DTSTAMP:20260421T112223Z
SUMMARY:Silent Party:Oakland \"Pre-Thanksgiving Edition\"
DESCRIPTION:Silent Party:Oakland \"Pre-Thanksgiving Edition\". Silent 
 Party:Oakland \"Pre-Thanksgiving Edition\". Get Your Tickets Now! This
  will be a sellout! Come try something different with your friends, be
 stfriends, family or squad. Prepare for a night to remember! See ya th
 ere! The Concept: It s your typical party with no speakers or amps. In
 stead, attendees don wireless headphones and turn them to various stat
 ions, then boogie on the dance floor amidst other revelers dancing to 
 whatever s in their headphones. The Music: Three DJs are competing for
  your attention during this bash, spinning the hottest RnB hits From A
 aliyah, Sisco, Pretty Ricky, Tank, Jagged Edge, Usher, Omarion, and to
  the doppest trap vibes from Future, Migos, Cardi B, Lil Pump, and mor
 e! If you don t like a song, simply switch your headphones from one st
 ation to the next to keep the party going. Silent parties have been ta
 king the nation by storm. Each paid ticket includes one pair of wirele
 ss headphones. Each headphone includes a switch to toggle between thre
 e separate channels (GREEN, RED & BLUE), featuring a different DJ batt
 ling for your attention. It's a unique experience; all the clubbing wi
 th no amplified sound. Remove your headphones and talk to a friend. Th
 row them on and dance the night away! WHAT TO BRING: ID Identification
  (21+ Only) Good Energy An Open Mind Tickets via Eventbrite **By atten
 ding a Complex Oakland event you are subjected to photos and videos be
 ing used in our promotional efforts via our website, social media and 
 print marketing.**Send requests, take a selfie and tag #ComplexOakland
 .\n\nFor more information visit https://trueskool.com/events/silent-pa
 rty-oakland-pre-thanksgiving-edition
DTSTART;TZID=America/Los_Angeles:20181121T220000
DTEND;TZID=America/Los_Angeles:20181122T020000
CATEGORIES:experience, music, nightlife, dj, hip, hop, "21+", "r&amp",
  b
LOCATION:Complex Oakland
WEBSITE:https://www.scenesquid.com/events/silent-party-oakland-pre-tha
 nksgiving-edition/5bd132af10a9baa6ce00000a?referring_publisher=557fcea
 2808529985700000d
URL:https://www.scenesquid.com/events/silent-party-oakland-pre-thanksg
 iving-edition/5bd132af10a9baa6ce00000a?referring_publisher=557fcea2808
 529985700000d
CONTACT:4152405286
ORGANIZER:Complex Oakland
ATTACH;FMTTYPE="image/jpeg":
ATTENDEE;ROLE=REQ-PARTICIPANT;PARTSTAT=ACCEPTED;RSVP=TRUE;CN="SceneSqu
 id SF Bay":https://trueskool.com/profile/SceneSquidSFBay
END:VEVENT
END:VCALENDAR
