BEGIN:VCALENDAR
PRODID:NingEventWidget-v1
VERSION:2.0
METHOD:PUBLISH
BEGIN:VTIMEZONE
TZID:America/Los_Angeles
X-LIC-LOCATION:America/Los_Angeles
BEGIN:DAYLIGHT
TZOFFSETFROM:-0800
TZOFFSETTO:-0700
TZNAME:PDT
DTSTART:19700308T020000
RRULE:FREQ=YEARLY;BYMONTH=3;BYDAY=2SU
END:DAYLIGHT
BEGIN:STANDARD
TZOFFSETFROM:-0700
TZOFFSETTO:-0800
TZNAME:PST
DTSTART:19701101T020000
RRULE:FREQ=YEARLY;BYMONTH=11;BYDAY=1SU
END:STANDARD
END:VTIMEZONE
BEGIN:VEVENT
UID:1464587:Event:680336
DTSTAMP:20260421T083108Z
SUMMARY:Silent Party: Oakland \"First Friday Edition\"
DESCRIPTION:Silent Party: Oakland \"First Friday Edition\". Silent Par
 ty: Oakland \"First Friday Edition\". Get Your Tickets Now! This will 
 be a sellout! Come try something different with your friends, bestfrie
 nds, family or squad. Prepare for a night to remember! See ya there! T
 he Concept: It s your typical party with no speakers or amps. Instead,
  attendees don wireless headphones and turn them to various stations, 
 then boogie on the dance floor amidst other revelers dancing to whatev
 er s in their headphones. The Music: Three DJs are competing for your 
 attention during this bash, spinning the hottest RnB hits From Aaliyah
 , Sisco, Pretty Ricky, Tank, Jagged Edge, Usher, Omarion, and to the d
 oppest trap vibes from Future, Migos, Cardi B, Lil Pump, and more! If 
 you don t like a song, simply switch your headphones from one station 
 to the next to keep the party going. Silent parties have been taking t
 he nation by storm. Each paid ticket includes one pair of wireless hea
 dphones. Each headphone includes a switch to toggle between three sepa
 rate channels (GREEN, RED & BLUE), featuring a different DJ battling f
 or your attention. It's a unique experience; all the clubbing with no 
 amplified sound. Remove your headphones and talk to a friend. Throw th
 em on and dance the night away! WHAT TO BRING: ID Identification (21+ 
 Only) Good Energy An Open Mind Tickets via Eventbrite **By attending a
  Complex Oakland event you are subjected to photos and videos being us
 ed in our promotional efforts via our website, social media and print 
 marketing.**Send requests, take a selfie and tag #ComplexOakland.\n\nF
 or more information visit https://trueskool.com/events/silent-party-oa
 kland-first-friday-edition
DTSTART;TZID=America/Los_Angeles:20181207T220000
DTEND;TZID=America/Los_Angeles:20181208T020000
CATEGORIES:party, experience, music, nightlife, drink, dj, hip, hop, u
 rban, "21+", "r&amp", b
LOCATION:Complex Oakland
WEBSITE:https://www.scenesquid.com/events/silent-party-oakland-first-f
 riday-edition/5bfc6204c225df1419000003?referring_publisher=557fcea2808
 529985700000d
URL:https://www.scenesquid.com/events/silent-party-oakland-first-frida
 y-edition/5bfc6204c225df1419000003?referring_publisher=557fcea28085299
 85700000d
CONTACT:4152405286
ORGANIZER:Complex Oakland
ATTACH;FMTTYPE="image/jpeg":
ATTENDEE;ROLE=REQ-PARTICIPANT;PARTSTAT=ACCEPTED;RSVP=TRUE;CN="SceneSqu
 id SF Bay":https://trueskool.com/profile/SceneSquidSFBay
END:VEVENT
END:VCALENDAR
