BEGIN:VCALENDAR
PRODID:NingEventWidget-v1
VERSION:2.0
METHOD:PUBLISH
BEGIN:VTIMEZONE
TZID:America/Los_Angeles
X-LIC-LOCATION:America/Los_Angeles
BEGIN:DAYLIGHT
TZOFFSETFROM:-0800
TZOFFSETTO:-0700
TZNAME:PDT
DTSTART:19700308T020000
RRULE:FREQ=YEARLY;BYMONTH=3;BYDAY=2SU
END:DAYLIGHT
BEGIN:STANDARD
TZOFFSETFROM:-0700
TZOFFSETTO:-0800
TZNAME:PST
DTSTART:19701101T020000
RRULE:FREQ=YEARLY;BYMONTH=11;BYDAY=1SU
END:STANDARD
END:VTIMEZONE
BEGIN:VEVENT
UID:1464587:Event:48360
DTSTAMP:20260421T082945Z
SUMMARY:Sibin First Thursdays
DESCRIPTION:Join us on April 1st for a night of positive vibes and upl
 ifting music. Strictly the best in Modern Roots, Current Dancehall, Re
 mixes and even some Soca in an upscalel setting. Check out the venue @
  http://www.otissf.com.\n\n*$10 BOTTOMLESS DRAFTS ALL NIGHT!*\n\nNEVER
  A COVER CHARGE\n\nIN THE DANCE...\n\nDJ Theory (http://www.facebook.c
 om/djtheory):\n\nSpecializing in reggae/dancehall, club/dance music, h
 ip hop/turntablism and many notes in between, DJ Theory has been makin
 g some serious moves in '09 and shows no sign of slowing down... Theor
 y's original production, remixes & mixtapes have turned heads on a glo
 bal level, and his live DJ sets showcase a raw & natural talent that i
 s undeniable in any setting. Within a year of moving to San Francisco 
 from New England, Theory has played at many major venues and events in
  the Bay Area, and secured a position as the Official Scratch DJ for t
 he SF 49ERS, performing live at every home game.\n\nSelecta L-Boogie (
 http://www.myspace.com/selectalboogie):\n\nSelecta L-Boogie aka Lars S
 mith is deep rooted in the music. Known for his crucial selections and
  deep crates, L-Boogie knows how to move the people. Catch him behind 
 the decks or in the crowd at a show (he has opened up for Ranking Joe,
  The Mighty Diamonds and the Mistic Roots Band to name a few), he will
  be found anywhere the music is playing. L-Boogie is the founding memb
 er of Jah Planet Soundsystem, which seeks to spread love, righteousnes
 s and positivity around the planet and beyond, through Reggae Music.\n
 \nDJ Kure All (http://www.facebook.com/pages/DJ-Kure-All):\n\nKure-All
  has been running things behind the scenes for years. Having worked wi
 th everyone from Iyse Lyfe to the Lustre Kings and Angel Magik. You ca
 n catch him all over California, from LA to the Bay booking shows and 
 promoting Reggae music in all its forms. His selection and musical kno
 wledge are impeccable, with a diverse and rare music collection, Kure 
 All can rock a party with everything from Steppers Reggae to Soca.\n\n
 Don't forget about your favorite Otis Bartenders Adrian and Phil servi
 ng up some of the best Top Shelf cocktails all night long. You are in 
 for a night of big riddims, good folks an strong drinks. Give thanks f
 or your friendship and see you there.\n\nProgress.\n\nwww.otissf.com\n
 www.forwardafterall.com\nwww.myspace.com/djtheory\nwww.myspace.com/jah
 planetsoundsystem\n\nFor more information visit https://trueskool.com/
 events/sibin-first-thursdays
DTSTART;TZID=America/Los_Angeles:20100401T220000
DTEND;TZID=America/Los_Angeles:20100402T020000
CATEGORIES:reggae, dancehall, soca, and, remixes
LOCATION:San Francisco
WEBSITE:http://maps.google.com/maps?f=q&source=s_q&hl=en&geocode=&q=25
 +maiden+lane,+sf+ca&sll=37.0625,-95.677068&sspn=39.456673,78.046875&ie
 =UTF8&hq=&hnear=25+Maiden+Ln,+San+Francisco,+California+94108&ll=37.79
 3813,-122.404046&spn=0.009631,0.019054&z=16
URL:http://maps.google.com/maps?f=q&source=s_q&hl=en&geocode=&q=25+mai
 den+lane,+sf+ca&sll=37.0625,-95.677068&sspn=39.456673,78.046875&ie=UTF
 8&hq=&hnear=25+Maiden+Ln,+San+Francisco,+California+94108&ll=37.793813
 ,-122.404046&spn=0.009631,0.019054&z=16
CONTACT:
ORGANIZER;CN="Kiaran aka Dj Kure All":https://trueskool.com/profile/Ki
 aranakaDjKureAll
ATTACH;FMTTYPE="image/jpeg":http://storage.ning.com/topology/rest/1.0/
 file/get/2187308748?profile=original
ATTENDEE;ROLE=REQ-PARTICIPANT;PARTSTAT=ACCEPTED;RSVP=TRUE;CN="Kiaran a
 ka Dj Kure All":https://trueskool.com/profile/KiaranakaDjKureAll
ATTENDEE;ROLE=REQ-PARTICIPANT;PARTSTAT=ACCEPTED;RSVP=TRUE;CN="Deejay T
 heory":https://trueskool.com/profile/DJTheory
END:VEVENT
END:VCALENDAR
