BEGIN:VCALENDAR
PRODID:NingEventWidget-v1
VERSION:2.0
METHOD:PUBLISH
BEGIN:VTIMEZONE
TZID:America/Los_Angeles
X-LIC-LOCATION:America/Los_Angeles
BEGIN:DAYLIGHT
TZOFFSETFROM:-0800
TZOFFSETTO:-0700
TZNAME:PDT
DTSTART:19700308T020000
RRULE:FREQ=YEARLY;BYMONTH=3;BYDAY=2SU
END:DAYLIGHT
BEGIN:STANDARD
TZOFFSETFROM:-0700
TZOFFSETTO:-0800
TZNAME:PST
DTSTART:19701101T020000
RRULE:FREQ=YEARLY;BYMONTH=11;BYDAY=1SU
END:STANDARD
END:VTIMEZONE
BEGIN:VEVENT
UID:1464587:Event:69425
DTSTAMP:20260420T144140Z
SUMMARY:Showtime @ 11
DESCRIPTION:The East Bay's Realest Showcase is making its Thursday Nig
 ht debut with Luv Fyah and DJ D providing some lovely dancehall sounds
  along with the hip hop stylings of Portland's X-Kid and Pac-Man aka S
 park of Clear Label Records\n\nFor more information visit https://true
 skool.com/events/showtime-11
DTSTART;TZID=America/Los_Angeles:20101118T210000
DTEND;TZID=America/Los_Angeles:20101119T020000
CATEGORIES:oakland, ca
LOCATION:The Stork Club-Oakland, Ca
WEBSITE:http://www.storkcluboakland.com/
URL:http://www.storkcluboakland.com/
CONTACT:
ORGANIZER;CN="True Justice":https://trueskool.com/profile/TrueJustice
ATTACH;FMTTYPE="image/jpeg":http://storage.ning.com/topology/rest/1.0/
 file/get/2247885536?profile=original
ATTENDEE;ROLE=REQ-PARTICIPANT;PARTSTAT=ACCEPTED;RSVP=TRUE;CN="True Jus
 tice":https://trueskool.com/profile/TrueJustice
END:VEVENT
END:VCALENDAR
