BEGIN:VCALENDAR
PRODID:NingEventWidget-v1
VERSION:2.0
METHOD:PUBLISH
BEGIN:VTIMEZONE
TZID:America/Los_Angeles
X-LIC-LOCATION:America/Los_Angeles
BEGIN:DAYLIGHT
TZOFFSETFROM:-0800
TZOFFSETTO:-0700
TZNAME:PDT
DTSTART:19700308T020000
RRULE:FREQ=YEARLY;BYMONTH=3;BYDAY=2SU
END:DAYLIGHT
BEGIN:STANDARD
TZOFFSETFROM:-0700
TZOFFSETTO:-0800
TZNAME:PST
DTSTART:19701101T020000
RRULE:FREQ=YEARLY;BYMONTH=11;BYDAY=1SU
END:STANDARD
END:VTIMEZONE
BEGIN:VEVENT
UID:1464587:Event:41647
DTSTAMP:20260421T094906Z
SUMMARY:ShoeBiz SF Adidas x Estria Invitational Graffiti Battle - \"Ki
 cks & Cans\"
DESCRIPTION:Graffiti writers from this past year's battles will paint 
 20 pairs of Adidas Shelltoes and Stan-Smith kicks for an auction to he
 lp youth in Oakland and orphans in Africa. Shoebiz will donate all pro
 ceeds to YouthSpeaks.org & YouthAgainstPoverty.com.\n\nPreview some of
  the custom painted shoes at the ShoeBiz SF Adidas Concept Store on Ha
 ight Street!\n\nIN-STORE LIVE PAINTING & SHOE AUCTION EVENT WILL BE ON
  OCT 31st AT SHOEBIZ SF!\n\nCustomers will be able to buy blank kicks 
 and commission several of the best bay area graffiti artists on the sp
 ot to do live painting on their kicks!\n\n12noon - 6:00PM\n\nShoe Biz 
 + Adidas Concept Shop\n1420 Haight Street\nSan Francisco, CA 94117\n\n
 For more information visit https://trueskool.com/events/shoebiz-sf-adi
 das-x-estria
DTSTART;TZID=America/Los_Angeles:20091031T120000
DTEND;TZID=America/Los_Angeles:20091031T180000
CATEGORIES:live, painting, hip, hop, shoe, auction
LOCATION:San Francisco
WEBSITE:http://estriabattle.com/#Shoebiz%20Shoe%20Auction
URL:http://estriabattle.com/#Shoebiz%20Shoe%20Auction
CONTACT:415-861-1674
ORGANIZER;CN=Bam:https://trueskool.com/profile/Bam
ATTACH;FMTTYPE="image/jpeg":http://storage.ning.com/topology/rest/1.0/
 file/get/2247868342?profile=original
ATTENDEE;ROLE=REQ-PARTICIPANT;PARTSTAT=ACCEPTED;RSVP=TRUE;CN=Bam:https
 ://trueskool.com/profile/Bam
END:VEVENT
END:VCALENDAR
