BEGIN:VCALENDAR
PRODID:NingEventWidget-v1
VERSION:2.0
METHOD:PUBLISH
BEGIN:VTIMEZONE
TZID:America/Los_Angeles
X-LIC-LOCATION:America/Los_Angeles
BEGIN:DAYLIGHT
TZOFFSETFROM:-0800
TZOFFSETTO:-0700
TZNAME:PDT
DTSTART:19700308T020000
RRULE:FREQ=YEARLY;BYMONTH=3;BYDAY=2SU
END:DAYLIGHT
BEGIN:STANDARD
TZOFFSETFROM:-0700
TZOFFSETTO:-0800
TZNAME:PST
DTSTART:19701101T020000
RRULE:FREQ=YEARLY;BYMONTH=11;BYDAY=1SU
END:STANDARD
END:VTIMEZONE
BEGIN:VEVENT
UID:1464587:Event:52497
DTSTAMP:20260421T052136Z
SUMMARY:Shelter: Home to classic soul, funk, hip hop & house w/ Ren th
 e Vinyl Archaeologist
DESCRIPTION:SATURDAY, APRIL 10\nOtis Lounge & True Skool present\nShel
 ter\nHome to classic soul, funk, hip hop & house\n\nFeaturing:\nRen th
 e Vinyl Archaeologist\n\n@ Otis Lounge, 25 Maiden Lane, SF\nNo cover. 
 21+. 10pm-2am\nInfo: http://www.trueskool.com\n\nFor more information 
 visit https://trueskool.com/events/shelter-home-to-classic-soul
DTSTART;TZID=America/Los_Angeles:20100410T220000
DTEND;TZID=America/Los_Angeles:20100411T020000
CATEGORIES:classic, soul, funk, hip, hop, "&", house
LOCATION:Otis Lounge, San Francisco
WEBSITE:http://maps.google.com/maps?f=q&source=s_q&hl=en&geocode=&q=25
 +Maiden+Ln,+San+Francisco,+California+94108&sll=37.0625,-95.677068&ssp
 n=37.871902,79.013672&ie=UTF8&hq=&hnear=25+Maiden+Ln,+San+Francisco,+C
 alifornia+94108&z=16
URL:http://maps.google.com/maps?f=q&source=s_q&hl=en&geocode=&q=25+Mai
 den+Ln,+San+Francisco,+California+94108&sll=37.0625,-95.677068&sspn=37
 .871902,79.013672&ie=UTF8&hq=&hnear=25+Maiden+Ln,+San+Francisco,+Calif
 ornia+94108&z=16
CONTACT:
ORGANIZER:True Skool & Otis Lounge
ATTACH;FMTTYPE="image/jpeg":http://storage.ning.com/topology/rest/1.0/
 file/get/2106907087?profile=original
ATTENDEE;ROLE=REQ-PARTICIPANT;PARTSTAT=ACCEPTED;RSVP=TRUE;CN="Editor's
  Pick":https://trueskool.com/profile/RentheVinylArchaeologist
END:VEVENT
END:VCALENDAR
