BEGIN:VCALENDAR
PRODID:NingEventWidget-v1
VERSION:2.0
METHOD:PUBLISH
BEGIN:VTIMEZONE
TZID:America/Los_Angeles
X-LIC-LOCATION:America/Los_Angeles
BEGIN:DAYLIGHT
TZOFFSETFROM:-0800
TZOFFSETTO:-0700
TZNAME:PDT
DTSTART:19700308T020000
RRULE:FREQ=YEARLY;BYMONTH=3;BYDAY=2SU
END:DAYLIGHT
BEGIN:STANDARD
TZOFFSETFROM:-0700
TZOFFSETTO:-0800
TZNAME:PST
DTSTART:19701101T020000
RRULE:FREQ=YEARLY;BYMONTH=11;BYDAY=1SU
END:STANDARD
END:VTIMEZONE
BEGIN:VEVENT
UID:1464587:Event:63473
DTSTAMP:20260421T002821Z
SUMMARY:Sheila E.
DESCRIPTION:August 15, 2010\nAn Evening with Sheila E.\nEmmy Nominee!\
 n\nYoshi's San Francisco\n1330 Fillmore Street\nSan Francisco, CA 9411
 5\nPhone: 415.655.5600\n7PM Show: $32\n9PM: $32\n» BUY TICKETS\n\n\nF
 or more information visit https://trueskool.com/events/sheila-e
DTSTART;TZID=America/Los_Angeles:20100815T190000
DTEND;TZID=America/Los_Angeles:20100815T230000
CATEGORIES:bay, area, san, francisco, ca
LOCATION:Yoshi's, San Francisco, CA
WEBSITE:http://sfyoshis2.inticketing.com/evlist.php?events=search&sear
 chstr=sheila&smonth=0&sday=0&syear=0&vstate=0
URL:http://sfyoshis2.inticketing.com/evlist.php?events=search&searchst
 r=sheila&smonth=0&sday=0&syear=0&vstate=0
CONTACT:
ORGANIZER:Yoshi's
ATTACH;FMTTYPE="image/jpeg":http://storage.ning.com/topology/rest/1.0/
 file/get/2247882341?profile=original
ATTENDEE;ROLE=REQ-PARTICIPANT;PARTSTAT=ACCEPTED;RSVP=TRUE;CN="Ren the 
 Vinyl Archaeologist":https://trueskool.com/profile/xh51jvilojur
END:VEVENT
END:VCALENDAR
