BEGIN:VCALENDAR
PRODID:NingEventWidget-v1
VERSION:2.0
METHOD:PUBLISH
BEGIN:VTIMEZONE
TZID:America/Los_Angeles
X-LIC-LOCATION:America/Los_Angeles
BEGIN:DAYLIGHT
TZOFFSETFROM:-0800
TZOFFSETTO:-0700
TZNAME:PDT
DTSTART:19700308T020000
RRULE:FREQ=YEARLY;BYMONTH=3;BYDAY=2SU
END:DAYLIGHT
BEGIN:STANDARD
TZOFFSETFROM:-0700
TZOFFSETTO:-0800
TZNAME:PST
DTSTART:19701101T020000
RRULE:FREQ=YEARLY;BYMONTH=11;BYDAY=1SU
END:STANDARD
END:VTIMEZONE
BEGIN:VEVENT
UID:1464587:Event:310651
DTSTAMP:20260421T053815Z
SUMMARY:Sheila E. presents Elevate Oakland's 1st Annual Benefit Concer
 t
DESCRIPTION:\nVenue:\nFox Theater \n\nLocation:\nOakland, CA\n\nShow D
 ate:\nSaturday, February 8\n\nShow Time:\n8:00PM\n\nOn Sale Date:\nTue
 sday, January 21\n\nTicket Price:\n$125.00 - Table Seating $125.00 - R
 eserved Floor $100.00 - Reserved Mezzanine $75.00 - Reserved Balcony*p
 lus applicable service fees\nTickets are also available service charge
  free at The Fox Theater's Box Office (located on the 19th street side
  of the theater) on show dates and on Fridays from noon - 7:00pm.\n\n\
 n\n\n\nFor more information visit https://trueskool.com/events/sheila-
 e-presenta-elevate-oakland-s-1st-annual-benefit-concert
DTSTART;TZID=America/Los_Angeles:20140208T200000
DTEND;TZID=America/Los_Angeles:20140208T230000
CATEGORIES:"bay area", "san francisco", "oakland\""
LOCATION:Fox Theater, Oakland
WEBSITE:http://www.ticketmaster.com/elevate-oaklands-1st-annual-benefi
 t-concert-oakland-california-02-08-2014/event/1C004C31AA716640?brand=a
 notherplanet&camefrom=CFC_ANOTHERPLANET
URL:http://www.ticketmaster.com/elevate-oaklands-1st-annual-benefit-co
 ncert-oakland-california-02-08-2014/event/1C004C31AA716640?brand=anoth
 erplanet&camefrom=CFC_ANOTHERPLANET
CONTACT:
ORGANIZER;CN="Editor's Pick":https://trueskool.com/profile/RentheVinyl
 Archaeologist
ATTACH;FMTTYPE="image/jpeg":http://storage.ning.com/topology/rest/1.0/
 file/get/2247957089?profile=original
ATTENDEE;ROLE=REQ-PARTICIPANT;PARTSTAT=ACCEPTED;RSVP=TRUE;CN="Editor's
  Pick":https://trueskool.com/profile/RentheVinylArchaeologist
END:VEVENT
END:VCALENDAR
