BEGIN:VCALENDAR
PRODID:NingEventWidget-v1
VERSION:2.0
METHOD:PUBLISH
BEGIN:VTIMEZONE
TZID:America/Los_Angeles
X-LIC-LOCATION:America/Los_Angeles
BEGIN:DAYLIGHT
TZOFFSETFROM:-0800
TZOFFSETTO:-0700
TZNAME:PDT
DTSTART:19700308T020000
RRULE:FREQ=YEARLY;BYMONTH=3;BYDAY=2SU
END:DAYLIGHT
BEGIN:STANDARD
TZOFFSETFROM:-0700
TZOFFSETTO:-0800
TZNAME:PST
DTSTART:19701101T020000
RRULE:FREQ=YEARLY;BYMONTH=11;BYDAY=1SU
END:STANDARD
END:VTIMEZONE
BEGIN:VEVENT
UID:1464587:Event:673563
DTSTAMP:20260423T055502Z
SUMMARY:Angela Davis
DESCRIPTION:Angela Davis in Conversation with Danielle Drake\r\nFriday
 , April 13 at 7:30 PM - 9:30 PM PDT Herbst Theatre 401 Van Ness Ave St
 e 110, San Francisco, California 94102\r\nThrough her activism and sch
 olarship over many decades, Angela Davis has been deeply involved in m
 ovements for social justice around the world. Her work has always emph
 asized the importance of building communities around the struggle for 
 economic, racial, and gender justice.\r\nHer efforts have been shaped 
 by her extraordinary past, starting with her childhood in a turbulent 
 and racially segregated Birmingham, Alabama. Later, a member of the Bl
 ack Panther Party, and a prominent communist leader, Angela has never 
 shied away from confronting the harsh realities of injustice.\r\nHer s
 upport of three Soledad Prison inmates who she felt were being treated
  unfairly, led to accusations of her involvement in their attempted es
 cape and, ultimately, her arrest in the early seventies. She spent eig
 hteen months in jail and on trial, after being placed on the FBI's Ten
  Most Wanted List. Since her acquittal, she has fought against a range
  of social problems associated with incarceration and the generalized 
 criminalization of those communities that are most affected by poverty
  and racial discrimination.\r\nJoin Angela Davis for an insightful con
 versation about her life and work as an activist educator, from the Ci
 vil Rights Movement, to fighting against the prison industrial complex
 .\r\nMeet Angela Davis! For just $50, add a Pre-Show Reception ticket 
 to your order. Meet Professor Davis from 5:45 - 6:45 pm in the intimat
 e CIIS gallery, located at 1453 Mission Street. Attendance very limite
 d.\n\nFor more information visit https://trueskool.com/events/shaun-ki
 ng
DTSTART;TZID=America/Los_Angeles:20180413T193000
DTEND;TZID=America/Los_Angeles:20180413T230000
CATEGORIES:"bay area", oakland, "san francisco", "san jose", berkeley
LOCATION:Herbst Theatre, San Francisco
WEBSITE:
URL:
CONTACT:
ORGANIZER;CN="Editor's Pick":https://trueskool.com/profile/RentheVinyl
 Archaeologist
ATTACH;FMTTYPE="image/jpeg":http://storage.ning.com/topology/rest/1.0/
 file/get/2248005050?profile=original
ATTENDEE;ROLE=REQ-PARTICIPANT;PARTSTAT=ACCEPTED;RSVP=TRUE;CN="Editor's
  Pick":https://trueskool.com/profile/RentheVinylArchaeologist
END:VEVENT
END:VCALENDAR
