BEGIN:VCALENDAR
PRODID:NingEventWidget-v1
VERSION:2.0
METHOD:PUBLISH
BEGIN:VTIMEZONE
TZID:America/Los_Angeles
X-LIC-LOCATION:America/Los_Angeles
BEGIN:DAYLIGHT
TZOFFSETFROM:-0800
TZOFFSETTO:-0700
TZNAME:PDT
DTSTART:19700308T020000
RRULE:FREQ=YEARLY;BYMONTH=3;BYDAY=2SU
END:DAYLIGHT
BEGIN:STANDARD
TZOFFSETFROM:-0700
TZOFFSETTO:-0800
TZNAME:PST
DTSTART:19701101T020000
RRULE:FREQ=YEARLY;BYMONTH=11;BYDAY=1SU
END:STANDARD
END:VTIMEZONE
BEGIN:VEVENT
UID:1464587:Event:673301
DTSTAMP:20260423T133248Z
SUMMARY:Shaun King Speaking in Oakland on How to Make Change
DESCRIPTION:Hey Oakland!\r\nI am coming back to town, but this time, w
 e're going to get very specific on how we make change happen, together
 .\r\nListen, this date, time, and the location could be adjusted some,
  but let's go ahead and get everything rolling!\r\nOAKTOWN!\r\n\r\nOak
 land, California\r\nSaturday 7 April 2018, 15:00 till Saturday 7 April
  2018, 6:00 PM\r\nOrganized by : Shaun King\r\nShaun King is one of ma
 ny voices—though an increasingly prominent voice—within the Black 
 Lives Matter movement. By using social media to highlight, amplify, an
 d discuss news of police brutality, racial discrimination, and other c
 ivil rights issues,\n\nFor more information visit https://trueskool.co
 m/events/shaun-king-speaking-in-oakland-on-how-to-make-change
DTSTART;TZID=America/Los_Angeles:20180407T180000
DTEND;TZID=America/Los_Angeles:20180407T210000
CATEGORIES:"bay area", oakland, "san francisco", "san jose", berkeley
LOCATION:Oakland
WEBSITE:https://www.facebook.com/events/5081714601890209
URL:https://www.facebook.com/events/5081714601890209
CONTACT:
ORGANIZER;CN="Editor's Pick":https://trueskool.com/profile/RentheVinyl
 Archaeologist
ATTACH;FMTTYPE="image/jpeg":http://storage.ning.com/topology/rest/1.0/
 file/get/2248004633?profile=original
ATTENDEE;ROLE=REQ-PARTICIPANT;PARTSTAT=ACCEPTED;RSVP=TRUE;CN="Editor's
  Pick":https://trueskool.com/profile/RentheVinylArchaeologist
END:VEVENT
END:VCALENDAR
