BEGIN:VCALENDAR
PRODID:NingEventWidget-v1
VERSION:2.0
METHOD:PUBLISH
BEGIN:VTIMEZONE
TZID:America/Los_Angeles
X-LIC-LOCATION:America/Los_Angeles
BEGIN:DAYLIGHT
TZOFFSETFROM:-0800
TZOFFSETTO:-0700
TZNAME:PDT
DTSTART:19700308T020000
RRULE:FREQ=YEARLY;BYMONTH=3;BYDAY=2SU
END:DAYLIGHT
BEGIN:STANDARD
TZOFFSETFROM:-0700
TZOFFSETTO:-0800
TZNAME:PST
DTSTART:19701101T020000
RRULE:FREQ=YEARLY;BYMONTH=11;BYDAY=1SU
END:STANDARD
END:VTIMEZONE
BEGIN:VEVENT
UID:1464587:Event:310483
DTSTAMP:20260421T023305Z
SUMMARY:Sharon Jones & The Dap-Kings with Valerie June
DESCRIPTION:Sharon Jones & The Dap-Kings with Valerie June\nThursdayMa
 rch 27, 2014\n\nThursday, March 27, 2014\nDoors 7:00 p.m. // Show 8:00
  p.m.Tickets are $35.00 plus applicable charges.\n\n\n\nFor more infor
 mation visit https://trueskool.com/events/sharon-jones-the-dap-kings-w
 ith-valerie-june
DTSTART;TZID=America/Los_Angeles:20140327T200000
DTEND;TZID=America/Los_Angeles:20140327T230000
CATEGORIES:"bay area", "san francisco", "oakland\""
LOCATION:The Fillmore,
WEBSITE:http://concerts.livenation.com/event/1C004B679D2D4D55
URL:http://concerts.livenation.com/event/1C004B679D2D4D55
CONTACT:
ORGANIZER;CN="Editor's Pick":https://trueskool.com/profile/RentheVinyl
 Archaeologist
ATTACH;FMTTYPE="image/jpeg":http://storage.ning.com/topology/rest/1.0/
 file/get/2247956581?profile=original
ATTENDEE;ROLE=REQ-PARTICIPANT;PARTSTAT=ACCEPTED;RSVP=TRUE;CN="Editor's
  Pick":https://trueskool.com/profile/RentheVinylArchaeologist
END:VEVENT
END:VCALENDAR
