BEGIN:VCALENDAR
PRODID:NingEventWidget-v1
VERSION:2.0
METHOD:PUBLISH
BEGIN:VTIMEZONE
TZID:America/Los_Angeles
X-LIC-LOCATION:America/Los_Angeles
BEGIN:DAYLIGHT
TZOFFSETFROM:-0800
TZOFFSETTO:-0700
TZNAME:PDT
DTSTART:19700308T020000
RRULE:FREQ=YEARLY;BYMONTH=3;BYDAY=2SU
END:DAYLIGHT
BEGIN:STANDARD
TZOFFSETFROM:-0700
TZOFFSETTO:-0800
TZNAME:PST
DTSTART:19701101T020000
RRULE:FREQ=YEARLY;BYMONTH=11;BYDAY=1SU
END:STANDARD
END:VTIMEZONE
BEGIN:VEVENT
UID:1464587:Event:53422
DTSTAMP:20260421T033247Z
SUMMARY:Sharon Jones and the Dap-Kings
DESCRIPTION:Friday June 25th\nSharon Jones and the Dap-Kings\nplus The
  Heavy\n\nThe Warfield\n982 Market Street, San Francisco, CA\nAll Ages
 \ndoors at 8pm\ntickets $22.25\nBuy Tickets:\n\n\n \n\n\n\nFor more in
 formation visit https://trueskool.com/events/sharon-jones-and-the-dapk
 ings
DTSTART;TZID=America/Los_Angeles:20100625T210000
DTEND;TZID=America/Los_Angeles:20100626T000000
CATEGORIES:"r&b", soul, funk
LOCATION:The Warfield, San Francisco, CA
WEBSITE:http://goldenvoice.com/shows/details/?id=26883
URL:http://goldenvoice.com/shows/details/?id=26883
CONTACT:
ORGANIZER;CN="Editor's Pick":https://trueskool.com/profile/RentheVinyl
 Archaeologist
ATTACH;FMTTYPE="image/jpeg":http://storage.ning.com/topology/rest/1.0/
 file/get/2247876703?profile=original
ATTENDEE;ROLE=REQ-PARTICIPANT;PARTSTAT=ACCEPTED;RSVP=TRUE;CN="Editor's
  Pick":https://trueskool.com/profile/RentheVinylArchaeologist
END:VEVENT
END:VCALENDAR
