BEGIN:VCALENDAR
PRODID:NingEventWidget-v1
VERSION:2.0
METHOD:PUBLISH
BEGIN:VTIMEZONE
TZID:America/Los_Angeles
X-LIC-LOCATION:America/Los_Angeles
BEGIN:DAYLIGHT
TZOFFSETFROM:-0800
TZOFFSETTO:-0700
TZNAME:PDT
DTSTART:19700308T020000
RRULE:FREQ=YEARLY;BYMONTH=3;BYDAY=2SU
END:DAYLIGHT
BEGIN:STANDARD
TZOFFSETFROM:-0700
TZOFFSETTO:-0800
TZNAME:PST
DTSTART:19701101T020000
RRULE:FREQ=YEARLY;BYMONTH=11;BYDAY=1SU
END:STANDARD
END:VTIMEZONE
BEGIN:VEVENT
UID:1464587:Event:62407
DTSTAMP:20260421T004103Z
SUMMARY:SHAKE AND CAKE | Meet, Shake, & Cupcake. No Cover. 21+
DESCRIPTION:All Mighty Family Presents\n\n~Shake and Cake~\nMeet, Shak
 e, and Cupcake\n\n....::Laying the icing and the flavor::.\nMES ONE (A
 MF)\nPRINCE ARIES (D2S)\nMIGHTY DELROKZ (AMF|D2S)\n\nNO COVER\n\n~$6 C
 hampagne All Night~\n\nYes...! There will be Cupcakes from Azul but on
 ly while they last\n\n.::Dress code::.\nNo Hats\nNo Sports Attire\nNo 
 Baggy Clothes\nDress to impress recommended\n\nV.I.P. and Bottle Servi
 ce please contact: azul@azul-sf.com or call 415.362.9750\n\nFor more i
 nformation visit https://trueskool.com/events/shake-and-cake-meet-shak
 e
DTSTART;TZID=America/Los_Angeles:20100731T220000
DTEND;TZID=America/Los_Angeles:20100801T020000
CATEGORIES:club, hip, hop, party, top, 40, old, school
LOCATION:Azul
WEBSITE:http://www.allmightyfamily.com
URL:http://www.allmightyfamily.com
CONTACT:
ORGANIZER;CN=Delrokz:https://trueskool.com/profile/Delrokz
ATTACH;FMTTYPE="image/jpeg":http://storage.ning.com/topology/rest/1.0/
 file/get/2247883363?profile=original
ATTENDEE;ROLE=REQ-PARTICIPANT;PARTSTAT=ACCEPTED;RSVP=TRUE;CN=Delrokz:h
 ttps://trueskool.com/profile/Delrokz
END:VEVENT
END:VCALENDAR
