BEGIN:VCALENDAR
PRODID:NingEventWidget-v1
VERSION:2.0
METHOD:PUBLISH
BEGIN:VTIMEZONE
TZID:America/Los_Angeles
X-LIC-LOCATION:America/Los_Angeles
BEGIN:DAYLIGHT
TZOFFSETFROM:-0800
TZOFFSETTO:-0700
TZNAME:PDT
DTSTART:19700308T020000
RRULE:FREQ=YEARLY;BYMONTH=3;BYDAY=2SU
END:DAYLIGHT
BEGIN:STANDARD
TZOFFSETFROM:-0700
TZOFFSETTO:-0800
TZNAME:PST
DTSTART:19701101T020000
RRULE:FREQ=YEARLY;BYMONTH=11;BYDAY=1SU
END:STANDARD
END:VTIMEZONE
BEGIN:VEVENT
UID:1464587:Event:275969
DTSTAMP:20260421T211156Z
SUMMARY:Shabazz Palaces
DESCRIPTION:\nShabazz Palaces\n\n\nRough Trade NYC Brooklyn, NY\nTue
 , 12/31/1309:00 PM\nFind Tickets \n\n\n\n\nFor more information visit
  https://trueskool.com/events/shabazz-palaces
DTSTART;TZID=America/Los_Angeles:20131231T210000
DTEND;TZID=America/Los_Angeles:20131231T230000
CATEGORIES:nyc
LOCATION:Rough Trade NYC, New York
WEBSITE:http://www.ticketmaster.com/shabazz-palaces-brooklyn-new-york-
 12-31-2013/event/00004B66D021CE0A?artistid=1527291&majorcatid=10001&mi
 norcatid=3&tm_link=search_msg-0_00004B66D021CE0A
URL:http://www.ticketmaster.com/shabazz-palaces-brooklyn-new-york-12-3
 1-2013/event/00004B66D021CE0A?artistid=1527291&majorcatid=10001&minorc
 atid=3&tm_link=search_msg-0_00004B66D021CE0A
CONTACT:
ORGANIZER;CN="Editor's Pick":https://trueskool.com/profile/RentheVinyl
 Archaeologist
ATTACH;FMTTYPE="image/jpeg":http://storage.ning.com/topology/rest/1.0/
 file/get/2247936657?profile=original
ATTENDEE;ROLE=REQ-PARTICIPANT;PARTSTAT=ACCEPTED;RSVP=TRUE;CN="Editor's
  Pick":https://trueskool.com/profile/RentheVinylArchaeologist
END:VEVENT
END:VCALENDAR
