BEGIN:VCALENDAR
PRODID:NingEventWidget-v1
VERSION:2.0
METHOD:PUBLISH
BEGIN:VTIMEZONE
TZID:America/Los_Angeles
X-LIC-LOCATION:America/Los_Angeles
BEGIN:DAYLIGHT
TZOFFSETFROM:-0800
TZOFFSETTO:-0700
TZNAME:PDT
DTSTART:19700308T020000
RRULE:FREQ=YEARLY;BYMONTH=3;BYDAY=2SU
END:DAYLIGHT
BEGIN:STANDARD
TZOFFSETFROM:-0700
TZOFFSETTO:-0800
TZNAME:PST
DTSTART:19701101T020000
RRULE:FREQ=YEARLY;BYMONTH=11;BYDAY=1SU
END:STANDARD
END:VTIMEZONE
BEGIN:VEVENT
UID:1464587:Event:844553
DTSTAMP:20260420T162937Z
SUMMARY:Shabazz Palaces at The Chapel SF - Friday, May 1
DESCRIPTION:Shabazz Palaces at The Chapel in San Francisco on Friday, 
 May 1st. Doors 8pm / Show 9pm. All Ages. \n\nFor more information vis
 it https://trueskool.com/events/shabazz-palaces-at-the-chapel-sf-frida
 y-may-1
DTSTART;TZID=America/Los_Angeles:20260501T210000
DTEND;TZID=America/Los_Angeles:20260501T234500
CATEGORIES:san, francisco, bay, area, mission, district, the, chapel, 
 sf
LOCATION:The Chapel, San Francisco
WEBSITE:https://thechapelsf.com
URL:https://thechapelsf.com
CONTACT:
ORGANIZER;CN=Tracey:https://trueskool.com/profile/Tracey
ATTACH;FMTTYPE="image/jpeg":https://storage.ning.com/topology/rest/1.0
 /file/get/31135153098?profile=original
ATTENDEE;ROLE=REQ-PARTICIPANT;PARTSTAT=ACCEPTED;RSVP=TRUE;CN=Tracey:ht
 tps://trueskool.com/profile/Tracey
END:VEVENT
END:VCALENDAR
