BEGIN:VCALENDAR
PRODID:NingEventWidget-v1
VERSION:2.0
METHOD:PUBLISH
BEGIN:VTIMEZONE
TZID:America/Los_Angeles
X-LIC-LOCATION:America/Los_Angeles
BEGIN:DAYLIGHT
TZOFFSETFROM:-0800
TZOFFSETTO:-0700
TZNAME:PDT
DTSTART:19700308T020000
RRULE:FREQ=YEARLY;BYMONTH=3;BYDAY=2SU
END:DAYLIGHT
BEGIN:STANDARD
TZOFFSETFROM:-0700
TZOFFSETTO:-0800
TZNAME:PST
DTSTART:19701101T020000
RRULE:FREQ=YEARLY;BYMONTH=11;BYDAY=1SU
END:STANDARD
END:VTIMEZONE
BEGIN:VEVENT
UID:1464587:Event:231946
DTSTAMP:20260421T024001Z
SUMMARY:SH*T SHOW w/TAURUS SCOTT (Hellfyre) + CRYKIT & host TEAM TERRI
 BLE
DESCRIPTION:F*ck Off Presents....  †HE SH*T SHOW  SATURDAY AUGUST 10
 th @ The Showdown (10 6th St. San Francisco, CA)  w/ TAURUS SCOTT (Hel
 lfyre Club I Low End Theory I LA)  Plus Dj's: Crykit and иı∂o  Hos
 ted by TEAM TERRIBLE  Sponsored by PABST  2 for $5 @ the door FREE if 
 you flash Team Terrible swag DON'† SHOW UP TO THE SH*T SHOW ALONE  F
 REE HOT DOG & TACO BAR  FREE BEER - $1 BEER - RAP - BASS - BEATS - HIP
  HOP  The SH*T SHOW is a MONTHLY PARTY going down on arguably one of t
 he most loved and vile streets in the city of San Francisco every 2ND 
 SATURDAY at the SHOWDOWN (6th and Market).  ...take our advice - DON'T
  F*CKING MISS IT.  ------  TAURUS SCOTT ( Hellfyre Club I Low End Theo
 ry I LA) https://soundcloud.com/taurus-scott-aka-t-scott  CRYKIT (Las 
 Vegas I Insert Coins) \"BEST LOCAL RESIDENT DJ 2013\" - Las Vegas Week
 ly www.djcrykit.com  TEAM TERRIBLE http://teamterribleltd.bigcartel.co
 m/  Team Terrible will be releasing two new additions to their most cu
 rrent line this evenings. You can check out their collection online or
  at Infinite in downtown San Francisco. They are one of SF's most outs
 tandingly terrible streetwear brands and gang of assholes.\n\nFor more
  information visit https://trueskool.com/events/sh-t-show-w-taurus-sco
 tt-hellfyre-crykit-host-team-terrible
DTSTART;TZID=America/Los_Angeles:20130810T220000
DTEND;TZID=America/Los_Angeles:20130811T020000
CATEGORIES:"san francisco", "bay area", sf
LOCATION:The Showdown, San Francisco, CA
WEBSITE:https://www.facebook.com/events/568453136551595/
URL:https://www.facebook.com/events/568453136551595/
CONTACT:
ORGANIZER;CN="Traci P":https://trueskool.com/profile/TraciP
ATTACH;FMTTYPE="image/jpeg":http://storage.ning.com/topology/rest/1.0/
 file/get/2247946075?profile=original
ATTENDEE;ROLE=REQ-PARTICIPANT;PARTSTAT=ACCEPTED;RSVP=TRUE;CN="Traci P"
 :https://trueskool.com/profile/TraciP
ATTENDEE;ROLE=REQ-PARTICIPANT;PARTSTAT=TENTATIVE;RSVP=TRUE;CN="Ren the
  Vinyl Archaeologist":https://trueskool.com/profile/xh51jvilojur
END:VEVENT
END:VCALENDAR
