BEGIN:VCALENDAR
PRODID:NingEventWidget-v1
VERSION:2.0
METHOD:PUBLISH
BEGIN:VTIMEZONE
TZID:America/Los_Angeles
X-LIC-LOCATION:America/Los_Angeles
BEGIN:DAYLIGHT
TZOFFSETFROM:-0800
TZOFFSETTO:-0700
TZNAME:PDT
DTSTART:19700308T020000
RRULE:FREQ=YEARLY;BYMONTH=3;BYDAY=2SU
END:DAYLIGHT
BEGIN:STANDARD
TZOFFSETFROM:-0700
TZOFFSETTO:-0800
TZNAME:PST
DTSTART:19701101T020000
RRULE:FREQ=YEARLY;BYMONTH=11;BYDAY=1SU
END:STANDARD
END:VTIMEZONE
BEGIN:VEVENT
UID:1464587:Event:41142
DTSTAMP:20260420T163424Z
SUMMARY:[SF] Sat.Oct.3rd [KONTROL] w/ Adultnapper, Three, Pezzner (liv
 e) & Sutekh (live)
DESCRIPTION:Friday, October 2nd: THE WARM UP!\n\nSaturday, October 3rd
 : THE MAIN EVENT!\n\nread on, music lovers......\n\n__________________
 __________________________________\n\n\nFriday, October 2nd, 2009\n\n[
 KONTROL] + AURALISM\n\nLovEvolution Warmup @ 222\n\nOur float applicat
 ion was denied this year, so instead we bring\nyou the next best (and 
 a helluva lot cheaper) thing, at the newly\nredone and fully kick-ass 
 222!\n\nAn intimate family vibe, some of the city's best DJs, crystal\
 nclear sound, and some bangin' bass in your chest. hey, things\ncould 
 be worse! :)\n\n\nWith DJs:\n\n* Jason Short\n* Craig Kuna\n* Clint St
 ewart\n* Sammy D\n* Nikola Baytala\n* Marc Smith (live)\n* Alland Byal
 lo\n* Roman Stange\n\n222 Hyde Street, SF\n9pm-2am / $5 / 21+\n100 per
 son capacity\n\nthen...\n\n___________________________________________
 __________\n\n\nSaturday, October 3rd, 2009\n\n[ K O N T R O L ]\n\nLo
 vEvolution Afterparty\n\nminimal techno + avant house\nevery 1st Satur
 day at The Endup\n\n\nAfter LovEvolution ends, the real mayhem begins!
 \n\nJoin [KONTROL] as we welcome an amazing\nFOUR headliners to our st
 age for one epic night!\n\n\nfeaturing from New York City:\n\n* ADULTN
 APPER\nhttp://www.myspace.com/adultnapper\n(Ransom Note . Clink . Audi
 omatique . Hallucination Ltd.)\n\n\n* THREE\nhttp://www.myspace.com/dj
 three\n(HallucinationLimited.com . Crosstown Rebels . System)\n\n\nfro
 m Seattle:\n\n* PEZZNER - LIVE!\nhttp://www.myspace.com/pezznermusic\n
 (Jacob London . Freerange . Om Records . Ghostly Int.)\n\n\nand the Ba
 y Area's own:\n\n* SUTEKH - LIVE!\nhttp://www.myspace.com/sutekh2\n(Co
 ntext . M_nus . Soul Jazz . Leaf. Force Inc.)\n\n\nwith residents:\n\n
 * ALLAND BYALLO (Nightlight . Auralism . Leibe*Detail)\nhttp://www.mys
 pace.com/alland\n\n* CRAIG KUNA (Platform . ESDJCO)\nhttp://www.myspac
 e.com/craig1\n\n* NIKOLA BAYTALA (S.W.A.T. . Robsoul . Junior Boys Own
 )\nhttp://www.myspace.com/nikolaswat\n\n* SAMMY D (Classic . Dirtybird
  . Utensil . Magnificent 7)\nhttp://www.myspace.com/sammydoyle\n\n____
 ________________________________________________\n\n\nThe ENDUP\n401 6
 th St @ Harrison, SF\n8pm - 6am / 21+ / $20 all night\nno presales - a
 rrive early to assure entry\nhttp://www.theendup.com\n\nOPEN 2 HOURS E
 ARLY at 8pm so you\ncan come over right as LovEvolution ends.\n\nFREE 
 before 10pm!\n\n____________________________________________________\n
 \n\n[KONTROL] on MySpace:\nhttp://www.myspace.com/kontrolsf\n\nFlyer f
 ront:\nhttp://www.kontrolsf.com/K52/K52F.jpg\n\nFlyer back:\nhttp://ww
 w.kontrolsf.com/K52/K52B.jpg\n\nPoster:\nhttp://www.kontrolsf.com/K52/
 K52P.jpg\n\n__________________________________________________________
 \n\nhttp://www.kontrolsf.com\n\nFor more information visit https://tru
 eskool.com/events/sf-satoct3rd-kontrol-w
DTSTART;TZID=America/Los_Angeles:20061003T200000
DTEND;TZID=America/Los_Angeles:20091004T060000
CATEGORIES:techno, minimal, avant, house
LOCATION:san francisco
WEBSITE:http://www.kontrolsf.com
URL:http://www.kontrolsf.com
CONTACT:
ORGANIZER;CN=k:https://trueskool.com/profile/k83
ATTACH;FMTTYPE="image/jpeg":
ATTENDEE;ROLE=REQ-PARTICIPANT;PARTSTAT=ACCEPTED;RSVP=TRUE;CN=k:https:/
 /trueskool.com/profile/k83
END:VEVENT
END:VCALENDAR
