BEGIN:VCALENDAR
PRODID:NingEventWidget-v1
VERSION:2.0
METHOD:PUBLISH
BEGIN:VTIMEZONE
TZID:America/Los_Angeles
X-LIC-LOCATION:America/Los_Angeles
BEGIN:DAYLIGHT
TZOFFSETFROM:-0800
TZOFFSETTO:-0700
TZNAME:PDT
DTSTART:19700308T020000
RRULE:FREQ=YEARLY;BYMONTH=3;BYDAY=2SU
END:DAYLIGHT
BEGIN:STANDARD
TZOFFSETFROM:-0700
TZOFFSETTO:-0800
TZNAME:PST
DTSTART:19701101T020000
RRULE:FREQ=YEARLY;BYMONTH=11;BYDAY=1SU
END:STANDARD
END:VTIMEZONE
BEGIN:VEVENT
UID:1464587:Event:679477
DTSTAMP:20260421T112219Z
SUMMARY:SF International Hip Hop DanceFest
DESCRIPTION:Micaya is pleased to present the 20thAnniversary of the Sa
 n Francisco International Hip Hop DanceFest (SFIHHDF), featuring groun
 dbreaking hip-hop performances from 14 dance companies from around the
  globe.\n \nIn 1993, dancer, choreographer, teacher, and producer Mic
 aya began producing grassroots hip-hop dance shows in the heart of San
  Francisco’s Mission District. Those shows quickly sold out, and led
  up to the creation of the first ever SFIHHDF in 1999 at Theatre Artau
 d. Micaya’s vision was to move hip-hop dance from the street and stu
 dio onto a proscenium stage, and to create a festival that honored bot
 h the artistry and diversity of hip-hop dance in a non-competitive env
 ironment.  Now presented at the Palace of Fine Arts Theatre, the fest
 ival attracts companies from all over the globe, and has firmly placed
  San Francisco on the map as a premier presenter of hip-hop dance.\n 
 \nUnder the umbrella of hip hop, this year’s festival showcases work
  that draws variously from b-boying, jazz, modern, waacking, locking, 
 krump, house, popping, and more. The 2018 festival welcomes internatio
 nal artists from London, Amsterdam, Paris, and Vietnam. Stateside, SFI
 HDDF hosts dancers from Los Angeles, Philadelphia, Murfreesboro, TN an
 d locally from Oakland, San Francisco, San Mateo, Vacaville, and Haywa
 rd. More than 100 individuals will take the stage at the Palace of Fin
 e Arts Theatre mixing skillfulness with artistry and storytelling.\n\n
 For more information visit https://trueskool.com/events/sf-internation
 al-hip-hop-dancefest
DTSTART;TZID=America/Los_Angeles:20181116T200000
DTEND;TZID=America/Los_Angeles:20181118T190000
CATEGORIES:san, francisco, palace, of, fine, arts, theatre
LOCATION:Palace of Fine Arts Theatre, San Francisco
WEBSITE:http://www.sfhiphopdancefest.com
URL:http://www.sfhiphopdancefest.com
CONTACT:
ORGANIZER;CN="Mona B":https://trueskool.com/profile/MonaB
ATTACH;FMTTYPE="image/jpeg":http://storage.ning.com/topology/rest/1.0/
 file/get/2248013975?profile=original
ATTENDEE;ROLE=REQ-PARTICIPANT;PARTSTAT=ACCEPTED;RSVP=TRUE;CN="Mona B":
 https://trueskool.com/profile/MonaB
END:VEVENT
END:VCALENDAR
