BEGIN:VCALENDAR
PRODID:NingEventWidget-v1
VERSION:2.0
METHOD:PUBLISH
BEGIN:VTIMEZONE
TZID:America/Los_Angeles
X-LIC-LOCATION:America/Los_Angeles
BEGIN:DAYLIGHT
TZOFFSETFROM:-0800
TZOFFSETTO:-0700
TZNAME:PDT
DTSTART:19700308T020000
RRULE:FREQ=YEARLY;BYMONTH=3;BYDAY=2SU
END:DAYLIGHT
BEGIN:STANDARD
TZOFFSETFROM:-0700
TZOFFSETTO:-0800
TZNAME:PST
DTSTART:19701101T020000
RRULE:FREQ=YEARLY;BYMONTH=11;BYDAY=1SU
END:STANDARD
END:VTIMEZONE
BEGIN:VEVENT
UID:1464587:Event:137711
DTSTAMP:20260425T052324Z
SUMMARY:SF Funk Fest 2012 w/ FRED WESLEY & THE NEW JB's, CLYDE STUBBLE
 FIELD, LYRICS BORN, RICKEY VINCENT...
DESCRIPTION:\nSATURDAY 11.3\nSunsetSF kicks off\nSF Funk Fest 2012 (ww
 w.sffunk.net) a month-long celebration of the JB's/James Brown Family!
 \n::: FRED WESLEY & THE NEW JB's featuringthe funky drummers::: CLYD
 E STUBBLEFIELD & JABO STARKSthe funky bassman:::FRED THOMASFred's spec
 tacular 8-piece band :::\"THE NEW JB's\" plus the SF legend opening wi
 th his own incredible band, then hosting and sitting in:::LYRICS BORNa
 nd from KPFA's \"History of Funk\":::DJ RICKEY VINCENT\n \nplus these
  gifts from our good friends:::STOLI OPEN BAR from 9-10PM:::First 100 
 get authentic posters from James Brown's last SF performance, FoggFest
  2006.\n\n@ Mezzanine, 444 Jesse St., San Francisco\n9pm-2am. \n:::TI
 CKETS: www.sunsetpromotions.com:::FUNK FEST INFO: www.sffunk.net ::
 :FACEBOOK EVENT: https://www.facebook.com/events/425968837442501/:::S
 FFUNK FEST FACEBOOK: www.facebook.com/sffu\n\nSF Funk Fest is back wi
 th one of the most anticipated shows to hit the bay in years. Fred Wes
 ley leads the New JB's into Mezzanine joined by superstar drummers Cly
 de Stubblefield and John \"Jabo\" Starks as well as bassist Fred Thoma
 s. Clyde, Jabo, and Fred T formed the backbone rhythm section for most
  of the JB's/James Brown years. Fred Wesley is renowned as the \"world
 's greatest sideman\". A master trombonist, bandleader and arranger wh
 o has had a huge influence on the FUNK through his seminal work with t
 he JB's, James Brown, Parliament-Funkadelic, Bootsy's Rubber Band, Ike
  & Tina Turner, Mongo Santamaria etc. Fred will lead the New JB's an e
 nsemble of ringers in their own right, joined by his old friends for a
  once-in a lifetime journey through classic funk, soul and jazz. To ma
 ke this funky cocktail even sweeter, we welcome local legend Lyrics Bo
 rn who will open the show with his own formidable ensemble, and host t
 he night.\n\n\nFor more information visit https://trueskool.com/events
 /sf-funk-fest-2012
DTSTART;TZID=America/Los_Angeles:20121103T210000
DTEND;TZID=America/Los_Angeles:20121104T020000
CATEGORIES:"bay area", "san francisco", ca
LOCATION:Mezzanine, San Francisco
WEBSITE:http://www.sunsetpromotions.com
URL:http://www.sunsetpromotions.com
CONTACT:
ORGANIZER:Sunset Promotions
ATTACH;FMTTYPE="image/jpeg":http://storage.ning.com/topology/rest/1.0/
 file/get/2247928862?profile=original
ATTENDEE;ROLE=REQ-PARTICIPANT;PARTSTAT=ACCEPTED;RSVP=TRUE;CN="Ren the 
 Vinyl Archaeologist":https://trueskool.com/profile/xh51jvilojur
END:VEVENT
END:VCALENDAR
