BEGIN:VCALENDAR
PRODID:NingEventWidget-v1
VERSION:2.0
METHOD:PUBLISH
BEGIN:VTIMEZONE
TZID:America/Los_Angeles
X-LIC-LOCATION:America/Los_Angeles
BEGIN:DAYLIGHT
TZOFFSETFROM:-0800
TZOFFSETTO:-0700
TZNAME:PDT
DTSTART:19700308T020000
RRULE:FREQ=YEARLY;BYMONTH=3;BYDAY=2SU
END:DAYLIGHT
BEGIN:STANDARD
TZOFFSETFROM:-0700
TZOFFSETTO:-0800
TZNAME:PST
DTSTART:19701101T020000
RRULE:FREQ=YEARLY;BYMONTH=11;BYDAY=1SU
END:STANDARD
END:VTIMEZONE
BEGIN:VEVENT
UID:1464587:Event:40514
DTSTAMP:20260422T043530Z
SUMMARY:SEXXY SUNDAYS
DESCRIPTION:\n\nFor more information visit https://trueskool.com/event
 s/sexxy-sundays
DTSTART;TZID=America/Los_Angeles:20090913T180000
DTEND;TZID=America/Los_Angeles:20090914T000000
CATEGORIES:adult, erotic, poetry, "/", every, "sunday.", doors, open, 
 at, "6.", "showtime:", 7, -10
LOCATION:Oakland, Ca
WEBSITE:
URL:
CONTACT:
ORGANIZER;CN="Stretch 'emOut":https://trueskool.com/profile/StretchemO
 ut
ATTACH;FMTTYPE="image/jpeg":
ATTENDEE;ROLE=REQ-PARTICIPANT;PARTSTAT=ACCEPTED;RSVP=TRUE;CN="Stretch 
 'emOut":https://trueskool.com/profile/StretchemOut
END:VEVENT
END:VCALENDAR
