BEGIN:VCALENDAR
PRODID:NingEventWidget-v1
VERSION:2.0
METHOD:PUBLISH
BEGIN:VTIMEZONE
TZID:America/Los_Angeles
X-LIC-LOCATION:America/Los_Angeles
BEGIN:DAYLIGHT
TZOFFSETFROM:-0800
TZOFFSETTO:-0700
TZNAME:PDT
DTSTART:19700308T020000
RRULE:FREQ=YEARLY;BYMONTH=3;BYDAY=2SU
END:DAYLIGHT
BEGIN:STANDARD
TZOFFSETFROM:-0700
TZOFFSETTO:-0800
TZNAME:PST
DTSTART:19701101T020000
RRULE:FREQ=YEARLY;BYMONTH=11;BYDAY=1SU
END:STANDARD
END:VTIMEZONE
BEGIN:VEVENT
UID:1464587:Event:51120
DTSTAMP:20260421T023539Z
SUMMARY:Setting-up a Simple Bookkeeping System for Creative Artists
DESCRIPTION:About This Workshop:\nThis workshop will explain how to se
 t-up a simple and effective bookkeeping system for creative artists. B
 e prepared for next year’s tax season with all your important record
 s up-to-date and ready for easy reporting. With Gabriela Lujan, C.L.A.
 ’s Business Manager and Bob Pimm, C.L.A.’s Chief Learning Officer 
 and Director of Legal Services.\n\nTo Register:\nPlease call our San F
 rancisco office at (415) 775-7200 ext. 107 or email ncalegal@calawyers
 forthearts.org.\n\nWorkshop Fees:\nGeneral Admission, $20; C.L.A. Memb
 ers, $10; Senior Citizen & Student C.L.A. Members, $5.\n\nTo Join C.L.
 A. as a Member:\nhttp://calawyersforthearts.org/membership.html\n\n***
 **\n\nAbout C.L.A.:\nCalifornia Lawyers for the Arts is a nonprofit se
 rvice organization providing legal services, educational programs, alt
 ernative dispute resolution services, advocacy and more to artists and
  arts organizations of all types. Founded in 1974 by lawyers and artis
 ts, C.L.A.'s programs and services are designed to help artists unders
 tand and apply legal concepts. For more information about C.L.A., plea
 se visit http://www.calawyersforthearts.org.\n\nPLEASE NOTE:\nIf you a
 re interested in our legal referral services, please do not post your 
 question on any public website. Instead, contact our Northern Californ
 ia LRS staff at (415) 775-7200 x107 or Southern California LRS staff a
 t (310) 998-5590.\n\nFor more information visit https://trueskool.com/
 events/settingup-a-simple-bookkeeping
DTSTART;TZID=America/Los_Angeles:20100428T190000
DTEND;TZID=America/Los_Angeles:20100428T203000
CATEGORIES:art, business, community, education, film, legal, music, no
 nprofit, seminar, workshop
LOCATION:Fort Mason Center, San Francisco, CA
WEBSITE:http://www.facebook.com/event.php?eid=377005432244
URL:http://www.facebook.com/event.php?eid=377005432244
CONTACT:(415) 775-7200 x107
ORGANIZER:California Lawyers for the Arts - SF Bay Area
ATTACH;FMTTYPE="image/jpeg":http://storage.ning.com/topology/rest/1.0/
 file/get/2247875090?profile=original
ATTENDEE;ROLE=REQ-PARTICIPANT;PARTSTAT=ACCEPTED;RSVP=TRUE;CN="Helen R.
  Wu":https://trueskool.com/profile/HelenRWu
END:VEVENT
END:VCALENDAR
