BEGIN:VCALENDAR
PRODID:NingEventWidget-v1
VERSION:2.0
METHOD:PUBLISH
BEGIN:VTIMEZONE
TZID:America/Los_Angeles
X-LIC-LOCATION:America/Los_Angeles
BEGIN:DAYLIGHT
TZOFFSETFROM:-0800
TZOFFSETTO:-0700
TZNAME:PDT
DTSTART:19700308T020000
RRULE:FREQ=YEARLY;BYMONTH=3;BYDAY=2SU
END:DAYLIGHT
BEGIN:STANDARD
TZOFFSETFROM:-0700
TZOFFSETTO:-0800
TZNAME:PST
DTSTART:19701101T020000
RRULE:FREQ=YEARLY;BYMONTH=11;BYDAY=1SU
END:STANDARD
END:VTIMEZONE
BEGIN:VEVENT
UID:1464587:Event:50509
DTSTAMP:20260420T163320Z
SUMMARY:Serve And Protect Tour 2010
DESCRIPTION:Whether you are familiar with his catalog or not, it is sa
 fe to say that 2Mex, aka SunGodSuns, is an underground legend. His lon
 g list of contributions and collaborative work is staggering. Now with
  his first East Coast alliance, he has signed with Strange Famous Reco
 rds. This \"golden boy\" of Hip Hop is possibly the most prolific unde
 rground rapper ever, with at least 35 CD releases and too many guest a
 ppearances to count. Through hard work and determination, while tourin
 g the globe many times over, he has built a cult-like following that t
 ries to keep up with his massive output.\n\n2Mex will be joined onstag
 e by:\nDJ L.A. Jae\nSahtyre\nAriano\nwith special guests:\nThe Dime\nH
 igh Dro\nALL SOUL\n\nDONT MISS THIS INCREDIBLE EVENT!\nIt all goes dow
 n inside Club 6's Darkroom\n60 Sixth Street\nSan Francisco, Ca\n\nFor 
 more information visit https://trueskool.com/events/serve-and-protect-
 tour-2010
DTSTART;TZID=America/Los_Angeles:20100407T210000
DTEND;TZID=America/Los_Angeles:20100408T014500
CATEGORIES:hip, hop, and, ya, "don't", stop
LOCATION:Club 6
WEBSITE:http://www.clubsix1.com
URL:http://www.clubsix1.com
CONTACT:
ORGANIZER;CN="True Justice":https://trueskool.com/profile/TrueJustice
ATTACH;FMTTYPE="image/jpeg":http://storage.ning.com/topology/rest/1.0/
 file/get/2247874511?profile=original
ATTENDEE;ROLE=REQ-PARTICIPANT;PARTSTAT=ACCEPTED;RSVP=TRUE;CN="True Jus
 tice":https://trueskool.com/profile/TrueJustice
END:VEVENT
END:VCALENDAR
