BEGIN:VCALENDAR
PRODID:NingEventWidget-v1
VERSION:2.0
METHOD:PUBLISH
BEGIN:VTIMEZONE
TZID:America/Los_Angeles
X-LIC-LOCATION:America/Los_Angeles
BEGIN:DAYLIGHT
TZOFFSETFROM:-0800
TZOFFSETTO:-0700
TZNAME:PDT
DTSTART:19700308T020000
RRULE:FREQ=YEARLY;BYMONTH=3;BYDAY=2SU
END:DAYLIGHT
BEGIN:STANDARD
TZOFFSETFROM:-0700
TZOFFSETTO:-0800
TZNAME:PST
DTSTART:19701101T020000
RRULE:FREQ=YEARLY;BYMONTH=11;BYDAY=1SU
END:STANDARD
END:VTIMEZONE
BEGIN:VEVENT
UID:1464587:Event:680371
DTSTAMP:20260421T084121Z
SUMMARY:Sellassie's The Rap Contest
DESCRIPTION:http://therapcontest.com\nPresented By Bay Area Hip-Hop Pi
 oneer: Sellassie!\nWith $99,375 paid in 127 shows in 10 different stat
 es; 20+ cities\nSellassie goes over $100,000 with his show!! DON'T MIS
 S IT!!Â \n\nThe Rap Contest is one of the most exciting live hip-hop s
 hows in the country! The Rap Contest is a single elimination contest, 
 where 16 contestants compete for a cash prize of $1000! Performing (1)
  minute and (30) thirty seconds each round, with a total of 5 rounds.Â
  \nÂ The winner who eliminates 5 opponents after five rounds, wins the
  $1000 cash prize live on stage!!Â The Rap Contest is judged by a pane
 l of (3) three music industry professionals. Ranging from radio person
 alities, A rappers Rapper, print, media and social media personalities
  to a local hometown favorite!Â \nThe Rap Contest promotes, markets an
 d exposes new rappers to new audiences city to city and state to state
 !Â \n\nFor more information visit https://trueskool.com/events/sellass
 ie-s-the-rap-contest-4
DTSTART;TZID=America/Los_Angeles:20181221T200000
DTEND;TZID=America/Los_Angeles:20181222T013000
CATEGORIES:"san francisco", "bay area", "the rap contest", oakland
LOCATION:Oakland
WEBSITE:https://the-rap-contest-oakland.eventbrite.com
URL:https://the-rap-contest-oakland.eventbrite.com
CONTACT:818-293-8079
ORGANIZER;CN="The Rap Contest":https://trueskool.com/profile/TheRapCon
 test
ATTACH;FMTTYPE="image/jpeg":
ATTENDEE;ROLE=REQ-PARTICIPANT;PARTSTAT=ACCEPTED;RSVP=TRUE;CN="The Rap 
 Contest":https://trueskool.com/profile/TheRapContest
END:VEVENT
END:VCALENDAR
