BEGIN:VCALENDAR
PRODID:NingEventWidget-v1
VERSION:2.0
METHOD:PUBLISH
BEGIN:VTIMEZONE
TZID:America/Los_Angeles
X-LIC-LOCATION:America/Los_Angeles
BEGIN:DAYLIGHT
TZOFFSETFROM:-0800
TZOFFSETTO:-0700
TZNAME:PDT
DTSTART:19700308T020000
RRULE:FREQ=YEARLY;BYMONTH=3;BYDAY=2SU
END:DAYLIGHT
BEGIN:STANDARD
TZOFFSETFROM:-0700
TZOFFSETTO:-0800
TZNAME:PST
DTSTART:19701101T020000
RRULE:FREQ=YEARLY;BYMONTH=11;BYDAY=1SU
END:STANDARD
END:VTIMEZONE
BEGIN:VEVENT
UID:1464587:Event:32754
DTSTAMP:20260423T130729Z
SUMMARY:Sean Paul, Pitbull, Baby Bash, Ice Cube, Rick Ross, Souljah Bo
 y, Kid Cudi
DESCRIPTION:A Live Nation Concert\n\nThe WiLD949 Bomb ft. Sean Paul, P
 itbull, Baby Bash, Ice Cube, Rick Ross, Souljah Boy, Kid Cudi\n\nAll A
 ges\nFriday 06/26/09 at 6:00 PM\nShoreline Amphitheatre at Mountain Vi
 ew\nOne Amphitheatre Parkway\nMountain View, CA 94043\n\nFor more info
 rmation visit https://trueskool.com/events/sean-paul-pitbull-baby-bash
DTSTART;TZID=America/Los_Angeles:20090626T180000
DTEND;TZID=America/Los_Angeles:20090626T230000
CATEGORIES:hip, hop, dancehall, reggae
LOCATION:Shoreline Amphitheatre, Mountain View
WEBSITE:http://www.livenation.com/venue/shoreline-amphitheatre-at-moun
 tain-view-tickets
URL:http://www.livenation.com/venue/shoreline-amphitheatre-at-mountain
 -view-tickets
CONTACT:
ORGANIZER:Live Nation
ATTACH;FMTTYPE="image/jpeg":http://storage.ning.com/topology/rest/1.0/
 file/get/2247859057?profile=original
ATTENDEE;ROLE=REQ-PARTICIPANT;PARTSTAT=ACCEPTED;RSVP=TRUE;CN="Ren the 
 Vinyl Archaeologist":https://trueskool.com/profile/xh51jvilojur
END:VEVENT
END:VCALENDAR
