BEGIN:VCALENDAR
PRODID:NingEventWidget-v1
VERSION:2.0
METHOD:PUBLISH
BEGIN:VTIMEZONE
TZID:America/Los_Angeles
X-LIC-LOCATION:America/Los_Angeles
BEGIN:DAYLIGHT
TZOFFSETFROM:-0800
TZOFFSETTO:-0700
TZNAME:PDT
DTSTART:19700308T020000
RRULE:FREQ=YEARLY;BYMONTH=3;BYDAY=2SU
END:DAYLIGHT
BEGIN:STANDARD
TZOFFSETFROM:-0700
TZOFFSETTO:-0800
TZNAME:PST
DTSTART:19701101T020000
RRULE:FREQ=YEARLY;BYMONTH=11;BYDAY=1SU
END:STANDARD
END:VTIMEZONE
BEGIN:VEVENT
UID:1464587:Event:39210
DTSTAMP:20260421T171243Z
SUMMARY:Sean Kingston and Flo Rida (CANCELLED)
DESCRIPTION:Win a pair of Tickets to Sean Kingston and Flo Rida. Send 
 your FULL NAME to trueskoolcontest@gmail.com with SEAN KINGSTON in the
  SUBJECT LINE. Winner will be drawn randomly 3 days prior to the event
 .\n\n\nBudlight Concert Series\nSean Kingston and Flo Rida\nMonday Oct
 ober 12, 2009\n\nThe Warfield\n982 Market Street\nSan Francisco, CA 94
 102\n\n* Show time: 8:00pm\n* Door time: 7:00pm\n* Age: All Ages+\n\nT
 ickets:\n* Tickets Available Now\n* $32.50-$45.00*\n* * Service and/or
  handling fees are added to the price of each ticket.\n\n\n\nFor more 
 information visit https://trueskool.com/events/sean-kingston-and-flo-r
 ida
DTSTART;TZID=America/Los_Angeles:20091012T190000
DTEND;TZID=America/Los_Angeles:20091012T230000
CATEGORIES:reggae, dancehall, hip, hop, electro, miami, bass
LOCATION:The Warfield, San Francisco, CA
WEBSITE:http://www.goldenvoice.com/shows/details/?id=24432
URL:http://www.goldenvoice.com/shows/details/?id=24432
CONTACT:
ORGANIZER:Golden Voice
ATTACH;FMTTYPE="image/jpeg":http://storage.ning.com/topology/rest/1.0/
 file/get/2247865473?profile=original
ATTENDEE;ROLE=REQ-PARTICIPANT;PARTSTAT=ACCEPTED;RSVP=TRUE;CN="Editor's
  Pick":https://trueskool.com/profile/RentheVinylArchaeologist
END:VEVENT
END:VCALENDAR
