BEGIN:VCALENDAR
PRODID:NingEventWidget-v1
VERSION:2.0
METHOD:PUBLISH
BEGIN:VTIMEZONE
TZID:America/Los_Angeles
X-LIC-LOCATION:America/Los_Angeles
BEGIN:DAYLIGHT
TZOFFSETFROM:-0800
TZOFFSETTO:-0700
TZNAME:PDT
DTSTART:19700308T020000
RRULE:FREQ=YEARLY;BYMONTH=3;BYDAY=2SU
END:DAYLIGHT
BEGIN:STANDARD
TZOFFSETFROM:-0700
TZOFFSETTO:-0800
TZNAME:PST
DTSTART:19701101T020000
RRULE:FREQ=YEARLY;BYMONTH=11;BYDAY=1SU
END:STANDARD
END:VTIMEZONE
BEGIN:VEVENT
UID:1464587:Event:320957
DTSTAMP:20260421T085339Z
SUMMARY:SCARFACE Performing LIVE
DESCRIPTION:\nBay Area Please Join Us,SUPABAD ENTERTAINMENT, ANKH Mark
 eting & WENightlife present SCARFACE Performing LIVEIncluding the Hit
 s Mr Scarface, Smile, Mary Jane, Guess Who's Back & many more!!!------
 ----------------------------------------------------------------------
 -Hosted by The Bay Area's Own MR CHUY GOMEZParty Music & Party Vibe p
 rovided byPos Red of the Original Djs & Mark Davita of 'The Love Movem
 ent'------------------------------------------------------------------
 ----------Mezzanine 444 Jessie stSan Francisco CaSaturday March 15th 
 20149pm Doors 21 & OverSTANDING ROOM only PARTY and SHOWNO REFUNDS!!-
 ----------------------------------------------------------------------
 ---Get Your Advance Tickets, NOW Click Here.. http://ticketf.ly/1c2gk
 JZ For Bottle Service Please Email bottleservice@mezzaninesf.com\n\n
 For more information visit https://trueskool.com/events/scarface-perfo
 rming-live
DTSTART;TZID=America/Los_Angeles:20140315T210000
DTEND;TZID=America/Los_Angeles:20140316T020000
CATEGORIES:san, francisco, bay, area, hip, hop, scarface
LOCATION:Mezzanine San Francisco
WEBSITE:http://ticketf.ly/1c2gkJZ
URL:http://ticketf.ly/1c2gkJZ
CONTACT:
ORGANIZER;CN="Supabad Entertainment":https://trueskool.com/profile/Sup
 abadEnt
ATTACH;FMTTYPE="image/jpeg":http://storage.ning.com/topology/rest/1.0/
 file/get/2247958899?profile=original
ATTENDEE;ROLE=REQ-PARTICIPANT;PARTSTAT=ACCEPTED;RSVP=TRUE;CN="Supabad 
 Entertainment":https://trueskool.com/profile/SupabadEnt
END:VEVENT
END:VCALENDAR
