BEGIN:VCALENDAR
PRODID:NingEventWidget-v1
VERSION:2.0
METHOD:PUBLISH
BEGIN:VTIMEZONE
TZID:America/Los_Angeles
X-LIC-LOCATION:America/Los_Angeles
BEGIN:DAYLIGHT
TZOFFSETFROM:-0800
TZOFFSETTO:-0700
TZNAME:PDT
DTSTART:19700308T020000
RRULE:FREQ=YEARLY;BYMONTH=3;BYDAY=2SU
END:DAYLIGHT
BEGIN:STANDARD
TZOFFSETFROM:-0700
TZOFFSETTO:-0800
TZNAME:PST
DTSTART:19701101T020000
RRULE:FREQ=YEARLY;BYMONTH=11;BYDAY=1SU
END:STANDARD
END:VTIMEZONE
BEGIN:VEVENT
UID:1464587:Event:34155
DTSTAMP:20260423T041449Z
SUMMARY:Saturday, June 20th - Seduxtion @ The Cellar
DESCRIPTION:RSVP @: sfstation.com/cellar-the-b4609 -OR- www.cellarSF.c
 om\n\n\nFor more information visit https://trueskool.com/events/saturd
 ay-june-20th-seduxtion
DTSTART;TZID=America/Los_Angeles:20090620T220000
DTEND;TZID=America/Los_Angeles:20090621T020000
CATEGORIES:club, dance, hip, "hop/rap", "r&b", "80's", "90's", "reggae
 /dancehall"
LOCATION:The Cellar, San Francisco, CA
WEBSITE:http://www.celllarSF.com
URL:http://www.celllarSF.com
CONTACT:4154415678
ORGANIZER;CN="DJ Chicken Skratch":https://trueskool.com/profile/DJChic
 kenSkratch
ATTACH;FMTTYPE="image/jpeg":http://storage.ning.com/topology/rest/1.0/
 file/get/2247858646?profile=original
ATTENDEE;ROLE=REQ-PARTICIPANT;PARTSTAT=ACCEPTED;RSVP=TRUE;CN="DJ Chick
 en Skratch":https://trueskool.com/profile/DJChickenSkratch
END:VEVENT
END:VCALENDAR
