BEGIN:VCALENDAR
PRODID:NingEventWidget-v1
VERSION:2.0
METHOD:PUBLISH
BEGIN:VTIMEZONE
TZID:America/Los_Angeles
X-LIC-LOCATION:America/Los_Angeles
BEGIN:DAYLIGHT
TZOFFSETFROM:-0800
TZOFFSETTO:-0700
TZNAME:PDT
DTSTART:19700308T020000
RRULE:FREQ=YEARLY;BYMONTH=3;BYDAY=2SU
END:DAYLIGHT
BEGIN:STANDARD
TZOFFSETFROM:-0700
TZOFFSETTO:-0800
TZNAME:PST
DTSTART:19701101T020000
RRULE:FREQ=YEARLY;BYMONTH=11;BYDAY=1SU
END:STANDARD
END:VTIMEZONE
BEGIN:VEVENT
UID:1464587:Event:54786
DTSTAMP:20260420T180745Z
SUMMARY:Sartorially Crunk
DESCRIPTION:Please join 330 Ritch, Above Ground Productions, Segue, Ho
 nor Roll, Distortion 2 Static, all 'expressively-dressed' bohemians, t
 ie-clipped professionals, librarians with red heels, professionals wit
 h red heels, the tie-clipped librarians and any others with a special 
 eye for their textile shelters, for the one and only brand new reason 
 to bring out your most favorite fabric assemblage, and then tear it to
  bits with us.\n\n\"SARTORIALLY CRUNK\" @ 330 Ritch, MAY 1, 2010\n\nMu
 sic by:\n\nKING MOST\nHAYLOW\nANT-1\n\nJ-BILLION (http://jbillion.com/
 )\n\nSPANK POPS & 1-O.A.K. (HNRL)\n\nFREE ENTRY WITH RSVP TO INFO@330R
 ITCH.COM\n\nDRINK SPECIALS UNTIL 11pm!!\n\nCelebrating Che's 30th b-da
 y - calling all Taurus babies!!!\n\nHopefully no choice pieces will be
  injured.\n\nFor more information visit https://trueskool.com/events/s
 artorially-crunk
DTSTART;TZID=America/Los_Angeles:20100501T210000
DTEND;TZID=America/Los_Angeles:20100502T020000
CATEGORIES:hip-hop, rap
LOCATION:330 Ritch, San Francisco, CA
WEBSITE:http://www.330ritch.com
URL:http://www.330ritch.com
CONTACT:415 902 0949
ORGANIZER:330 Ritch
ATTACH;FMTTYPE="image/jpeg":http://storage.ning.com/topology/rest/1.0/
 file/get/2247877093?profile=original
ATTENDEE;ROLE=REQ-PARTICIPANT;PARTSTAT=ACCEPTED;RSVP=TRUE;CN="Che Hash
 im":https://trueskool.com/profile/CheHashim486
END:VEVENT
END:VCALENDAR
