BEGIN:VCALENDAR
PRODID:NingEventWidget-v1
VERSION:2.0
METHOD:PUBLISH
BEGIN:VTIMEZONE
TZID:America/Los_Angeles
X-LIC-LOCATION:America/Los_Angeles
BEGIN:DAYLIGHT
TZOFFSETFROM:-0800
TZOFFSETTO:-0700
TZNAME:PDT
DTSTART:19700308T020000
RRULE:FREQ=YEARLY;BYMONTH=3;BYDAY=2SU
END:DAYLIGHT
BEGIN:STANDARD
TZOFFSETFROM:-0700
TZOFFSETTO:-0800
TZNAME:PST
DTSTART:19701101T020000
RRULE:FREQ=YEARLY;BYMONTH=11;BYDAY=1SU
END:STANDARD
END:VTIMEZONE
BEGIN:VEVENT
UID:1464587:Event:830777
DTSTAMP:20260421T110555Z
SUMMARY:SANTANA
DESCRIPTION:SANTANA\r\nTUE Aug 27, 2024 7:00PM\r\nShoreline Amphitheat
 re One Amphitheatre Parkway Mountain View 94043 California\n\nFor more
  information visit https://trueskool.com/events/santana
DTSTART;TZID=America/Los_Angeles:20240827T190000
DTEND;TZID=America/Los_Angeles:20240827T230000
CATEGORIES:"bay area", oakland, "san francisco", "san jose", berkeley
LOCATION:Shoreline Amphitheatre, Mountain View
WEBSITE:https://www.mountainviewamphitheater.com/shoreline-amphitheatr
 e-address/
URL:https://www.mountainviewamphitheater.com/shoreline-amphitheatre-ad
 dress/
CONTACT:
ORGANIZER;CN="Editor's Pick":https://trueskool.com/profile/RentheVinyl
 Archaeologist
ATTACH;FMTTYPE="image/jpeg":https://storage.ning.com/topology/rest/1.0
 /file/get/12673885474?profile=original
ATTENDEE;ROLE=REQ-PARTICIPANT;PARTSTAT=ACCEPTED;RSVP=TRUE;CN="Editor's
  Pick":https://trueskool.com/profile/RentheVinylArchaeologist
END:VEVENT
END:VCALENDAR
