BEGIN:VCALENDAR
PRODID:NingEventWidget-v1
VERSION:2.0
METHOD:PUBLISH
BEGIN:VTIMEZONE
TZID:America/Los_Angeles
X-LIC-LOCATION:America/Los_Angeles
BEGIN:DAYLIGHT
TZOFFSETFROM:-0800
TZOFFSETTO:-0700
TZNAME:PDT
DTSTART:19700308T020000
RRULE:FREQ=YEARLY;BYMONTH=3;BYDAY=2SU
END:DAYLIGHT
BEGIN:STANDARD
TZOFFSETFROM:-0700
TZOFFSETTO:-0800
TZNAME:PST
DTSTART:19701101T020000
RRULE:FREQ=YEARLY;BYMONTH=11;BYDAY=1SU
END:STANDARD
END:VTIMEZONE
BEGIN:VEVENT
UID:1464587:Event:69382
DTSTAMP:20260420T181304Z
SUMMARY:SANDMAN'S ART OF DREAMING ALBUM RELEASE PARTY
DESCRIPTION:\nTHE GREATEST SHOW ON EARTH...like seriously DJ Phatrick\
 nDJ Treat U Nice\nKlassiq (Host)\nIsis Genisis, Do Dat, Los Rakas\nThe
  Reclaim Allstars (4 PIECE BAND)\nDom Jones, Krystal Azul, The ATTIK\n
 and More........\nFREE COPY OF THE ALBUM FOR PRE-SALE TICKET HOLDERS T
 O BE REDEEMED UPON ENTRY\n\nFor more information visit https://truesko
 ol.com/events/sandmans-art-of-dreaming-album
DTSTART;TZID=America/Los_Angeles:20101113T213000
DTEND;TZID=America/Los_Angeles:20101114T020000
CATEGORIES:oakland
LOCATION:The New Parish
WEBSITE:http://sandmandreaming-site.eventbrite.com
URL:http://sandmandreaming-site.eventbrite.com
CONTACT:
ORGANIZER;CN=SANDMAN:https://trueskool.com/profile/SANDMAN
ATTACH;FMTTYPE="image/jpeg":http://storage.ning.com/topology/rest/1.0/
 file/get/2247885082?profile=original
ATTENDEE;ROLE=REQ-PARTICIPANT;PARTSTAT=ACCEPTED;RSVP=TRUE;CN=SANDMAN:h
 ttps://trueskool.com/profile/SANDMAN
END:VEVENT
END:VCALENDAR
