BEGIN:VCALENDAR
PRODID:NingEventWidget-v1
VERSION:2.0
METHOD:PUBLISH
BEGIN:VTIMEZONE
TZID:America/Los_Angeles
X-LIC-LOCATION:America/Los_Angeles
BEGIN:DAYLIGHT
TZOFFSETFROM:-0800
TZOFFSETTO:-0700
TZNAME:PDT
DTSTART:19700308T020000
RRULE:FREQ=YEARLY;BYMONTH=3;BYDAY=2SU
END:DAYLIGHT
BEGIN:STANDARD
TZOFFSETFROM:-0700
TZOFFSETTO:-0800
TZNAME:PST
DTSTART:19701101T020000
RRULE:FREQ=YEARLY;BYMONTH=11;BYDAY=1SU
END:STANDARD
END:VTIMEZONE
BEGIN:VEVENT
UID:1464587:Event:238460
DTSTAMP:20260421T094744Z
SUMMARY:sampleLIVE: Pretty Lights vs Gramatik Experience
DESCRIPTION:sampleLIVE: Pretty Lights vs Gramatik Experience  Tracks l
 ike Gramatikâ€™s â€˜Donâ€™t Let Me Downâ€™ (http://youtu.be/FHPg-bQneM
 Y) and Pretty Lights' â€˜Total Fascinationâ€™ (http://youtu.be/lTx-h6x
 rW_I) mix and blend genres and sounds so thoroughly they deserve a spe
 cial night of their own. Join us Saturday Aug 31st at Temple for the P
 retty Lights vs Gramatik experience! Free with RSVP atÂ http://lelandp
 ro.com/sl8  with DJs SELF DUSTRUKT :: JONSEY :: LEL_LION PHEEKO DUBFUN
 K :: KING JAMES and many more     ++RSVP atÂ http://lelandpro.com/sl8Â
  to get on the Free Guestlist  ====================================== 
 - -$20 without RSVP - - 21+ event - - 10pm-2am- -Â  ==================
 ====================   ++LOCAL HOST FAVORITES++ = Dustin Derego (Dream
  Team) = Sam Arrow (Leland Productions) = Jasmine Edwards (Love of Art
 )    +unparalleled sound, lighting, and effects +filming for the 'Love
  of Art'Â  +3 fully stocked bars +vendors, photographers, artwork    S
 ampling in some of todayâ€™s music has almost taken on a genre of its 
 own. Classic, familiar melodies accompanied by midtempo 808â€™s and el
 ectronic influences create a sound that spans generations.Â   Our last
  show was huge, and this one's even bigger!! RSVP and early arrival is
  strongly recommended. Mark the date, Saturday Aug 31st, and see ya th
 ere!! More info and updates at:Â www.lelandpro.com             for BIR
 THDAY SPECIALS, LARGE GROUPS,Â  BOTTLE SERVICE, GUESTLISTS, to get inv
 olved,Â  or general questions, contact:Â  samarrow@lelandpro.comÂ     
 Official Site:Â http://www.lelandpro.com/         'Like' us: http://fb
 .me/lelandpro http://lelandpro.com/\n\nFor more information visit http
 s://trueskool.com/events/samplelive-pretty-lights-vs-gramatik-experien
 ce-1
DTSTART;TZID=America/Los_Angeles:20130831T220000
DTEND;TZID=America/Los_Angeles:20130901T020000
CATEGORIES:"bay area", "san francisco"
LOCATION:Temple, San Francisco, CA
WEBSITE:http://lelandpro.com/sl8
URL:http://lelandpro.com/sl8
CONTACT:http://lelandpro.com/sl8
ORGANIZER:lelandpro
ATTACH;FMTTYPE="image/jpeg":http://storage.ning.com/topology/rest/1.0/
 file/get/2247956415?profile=original
ATTENDEE;ROLE=REQ-PARTICIPANT;PARTSTAT=ACCEPTED;RSVP=TRUE;CN="sam arro
 w":https://trueskool.com/profile/samarrow
END:VEVENT
END:VCALENDAR
